BEGIN:VCALENDAR
VERSION:2.0
PRODID:-//ChamberMaster//Event Calendar 2.0//EN
METHOD:PUBLISH
X-PUBLISHED-TTL:P3D
REFRESH-INTERVAL:P3D
CALSCALE:GREGORIAN
BEGIN:VEVENT
DTSTART:20260326T003000Z
DTEND:20260326T023000Z
X-MICROSOFT-CDO-ALLDAYEVENT:FALSE
SUMMARY:City of Renton 2026 State of the City with Mayor Armondo Pavone
DESCRIPTION:Join us for an exciting update on Renton's progress with Mayor Armondo Pavone in 2025!\n\n\n\nWelcome to the City of Renton's 2026 State of the City event with Mayor Armondo Pavone! Join us in person at the Hyatt Regency Lake Washington at Seattle's Southport for an exciting update on the city's progress and future plans. Get ready to hear directly from Mayor Pavone about what's in store for Renton in the coming year. Don't miss this opportunity to engage with local officials and fellow community members. See you there!\n\n\n\n[REGISTER HERE]
X-ALT-DESC;FMTTYPE=text/html:<strong>Join us for an exciting update on Renton&#39\;s progress with Mayor Armondo Pavone in 2025!</strong><br />\n<br />\nWelcome to the City of Renton&#39\;s 2026 State of the City event with Mayor Armondo Pavone! Join us in person at the Hyatt Regency Lake Washington at Seattle&#39\;s Southport for an exciting update on the city&#39\;s progress and future plans. Get ready to hear directly from Mayor Pavone about what&#39\;s in store for Renton in the coming year. Don&#39\;t miss this opportunity to engage with local officials and fellow community members. See you there!<br />\n<br />\n<a href="https://www.eventbrite.com/e/city-of-renton-2026-state-of-the-city-with-mayor-armondo-pavone-tickets-1980225638190?aff=erellivmlt"><strong>[REGISTER HERE]</strong></a>
LOCATION:Hyatt Regency Lake Washington at Seattle's Southport 1053 Lake Washington Boulevard North Renton\, WA 98056
UID:e.16.32037
SEQUENCE:3
DTSTAMP:20260425T223407Z
URL:https://chamber.gorenton.com/events/details/city-of-renton-2026-state-of-the-city-with-mayor-armondo-pavone-32037
END:VEVENT

END:VCALENDAR
