BEGIN:VCALENDAR
VERSION:2.0
PRODID:-//ChamberMaster//Event Calendar 2.0//EN
METHOD:PUBLISH
X-PUBLISHED-TTL:P3D
REFRESH-INTERVAL:P3D
CALSCALE:GREGORIAN
BEGIN:VEVENT
DTSTART:20190220T220000Z
DTEND:20190220T230000Z
X-MICROSOFT-CDO-ALLDAYEVENT:FALSE
SUMMARY:Coffee & Conversation: AARP Fraud Fighter
DESCRIPTION:Join our discussion with AARP Fraud Fighter\, Gary Reece\, as he talks about the latest scams as reported by the AARP Hotline and how to best protect yourself against these tactics.
X-ALT-DESC;FMTTYPE=text/html:Join our discussion with AARP Fraud Fighter\, Gary Reece\, as he talks about the latest scams as reported by the AARP Hotline and how to best protect yourself against these tactics.
LOCATION:The Lakeshore Retirement Community 11448 Rainier Ave S Seattle\, WA 98178
UID:e.16.6077
SEQUENCE:3
DTSTAMP:20260424T075826Z
URL:https://chamber.gorenton.com/events/details/coffee-conversation-aarp-fraud-fighter-02-20-2019-6077
END:VEVENT

END:VCALENDAR
