BEGIN:VCALENDAR
VERSION:2.0
PRODID:-//ChamberMaster//Event Calendar 2.0//EN
METHOD:PUBLISH
X-PUBLISHED-TTL:P3D
REFRESH-INTERVAL:P3D
CALSCALE:GREGORIAN
BEGIN:VEVENT
DTSTART:20180919T210000Z
DTEND:20180919T220000Z
X-MICROSOFT-CDO-ALLDAYEVENT:FALSE
SUMMARY:Coffee & Conversation: AARP Fraud Fighter
DESCRIPTION:Join AARP Fraud Fighter volunteer Gary Reece to hear about the latest scams and schemes that are reported to the AARP fraud hotline. Please RSVP.
X-ALT-DESC;FMTTYPE=text/html:Join AARP Fraud Fighter volunteer Gary Reece to hear about the latest scams and schemes that are reported to the AARP fraud hotline. Please RSVP.
LOCATION:The Lakeshore 11448 Rainier Ave S Seattle WA 98178
UID:e.16.5902
SEQUENCE:3
DTSTAMP:20260424T153421Z
URL:https://chamber.gorenton.com/events/details/coffee-conversation-aarp-fraud-fighter-09-19-2018-5902
END:VEVENT

END:VCALENDAR
