BEGIN:VCALENDAR
VERSION:2.0
PRODID:-//ChamberMaster//Event Calendar 2.0//EN
METHOD:PUBLISH
X-PUBLISHED-TTL:P3D
REFRESH-INTERVAL:P3D
CALSCALE:GREGORIAN
BEGIN:VEVENT
DTSTART:20220821T200000Z
DTEND:20220821T220000Z
X-MICROSOFT-CDO-ALLDAYEVENT:FALSE
SUMMARY:Communities In Schools of Renton-Tukwila-Lake Washington Annual Back-To-School Block Party
DESCRIPTION:In partnership with the City of Renton\, Communities In Schools of Renton-Tukwila-Lake Washington\, will host our Annual Back-to-School Block Party. This community event provides essential back to school needs to students and families\, such as haircuts\, backpacks\, school supplies\, and more. This free and barrier-less family-friendly event is a celebration of the upcoming school year.
X-ALT-DESC;FMTTYPE=text/html:In partnership with the City of Renton\, Communities In Schools of Renton-Tukwila-Lake Washington\, will host our Annual Back-to-School Block Party. This community event provides essential back to school needs to students and families\, such as haircuts\, backpacks\, school supplies\, and more. This free and barrier-less family-friendly event is a celebration of the upcoming school year.&nbsp\;
LOCATION:Liberty Park\, 1101 Bronson Way N\, Renton
UID:e.16.11746
SEQUENCE:3
DTSTAMP:20260419T203235Z
URL:https://chamber.gorenton.com/events/details/communities-in-schools-of-renton-tukwila-lake-washington-annual-back-to-school-block-party-08-21-2022-11746
END:VEVENT

END:VCALENDAR
