BEGIN:VCALENDAR
VERSION:2.0
PRODID:-//ChamberMaster//Event Calendar 2.0//EN
METHOD:PUBLISH
X-PUBLISHED-TTL:P3D
REFRESH-INTERVAL:P3D
CALSCALE:GREGORIAN
BEGIN:VEVENT
DTSTART:20210829T210000Z
DTEND:20210830T000000Z
X-MICROSOFT-CDO-ALLDAYEVENT:FALSE
SUMMARY:Communities In Schools of Renton-Tukwila-Lake Washington Annual Back-To-School Block Party
DESCRIPTION:This event in partnership with our Backpack Drive helps students and their families gear up for back to school. As a social justice organization we believe that every child should succeed in school and beyond regardless of socioeconomic status. During this annual event\, our students will be provided with backpacks\, school supplies\, shoes\, haircuts\, and so much more!
X-ALT-DESC;FMTTYPE=text/html:<span style="font-size:20px">This event in partnership with our Backpack Drive helps students and their families gear up for back to school. As a social justice organization we believe that every child should succeed in school and beyond regardless of socioeconomic status. During this annual event\, our students will be provided with backpacks\, school supplies\, shoes\, haircuts\, and so much more!&nbsp\;</span>
LOCATION:Liberty Park\, Renton
UID:e.16.8248
SEQUENCE:3
DTSTAMP:20260420T133257Z
URL:https://chamber.gorenton.com/events/details/communities-in-schools-of-renton-tukwila-lake-washington-annual-back-to-school-block-party-8248
END:VEVENT

END:VCALENDAR
