BEGIN:VCALENDAR
VERSION:2.0
PRODID:-//ChamberMaster//Event Calendar 2.0//EN
METHOD:PUBLISH
X-PUBLISHED-TTL:P3D
REFRESH-INTERVAL:P3D
CALSCALE:GREGORIAN
BEGIN:VEVENT
DTSTART;VALUE=DATE:20210901
DTEND;VALUE=DATE:20211001
TRANSP:TRANSPARENT
X-MICROSOFT-CDO-ALLDAYEVENT:TRUE
SUMMARY:Communities In Schools of Renton-Tukwila-Lake Washington Snack Drive!
DESCRIPTION:Snack suggestions: \n\n	Protein Bars\n	\n		Cliff\n		Luna\n		Kind\n		Larabars\n	\n	\n	Cereal bars\n	Granola bars\n	Peanut butter sandwich crackers\n	Fruit leather\n	Sun chips\n	Terra chips\n	Goldfish crackers\n	Boxes of raisins\n	Popcorn\n	\n		Skinny Pop\n	\n	\n	Seaweed snacks (roasted seaweed)\n	Trail mix\n	Beef sticks\n	Yogurt covered raisins\n	Fruit squishers
X-ALT-DESC;FMTTYPE=text/html:<strong><u>Snack suggestions: </u></strong>\n<ul>\n	<li>Protein Bars\n	<ul style="list-style-type:circle">\n		<li>Cliff</li>\n		<li>Luna</li>\n		<li>Kind</li>\n		<li>Larabars</li>\n	</ul>\n	</li>\n	<li>Cereal bars</li>\n	<li>Granola bars</li>\n	<li>Peanut butter sandwich crackers</li>\n	<li>Fruit leather</li>\n	<li>Sun chips</li>\n	<li>Terra chips</li>\n	<li>Goldfish crackers</li>\n	<li>Boxes of raisins</li>\n	<li>Popcorn\n	<ul style="list-style-type:circle">\n		<li>Skinny Pop</li>\n	</ul>\n	</li>\n	<li>Seaweed snacks (roasted seaweed)</li>\n	<li>Trail mix</li>\n	<li>Beef sticks</li>\n	<li>Yogurt covered raisins</li>\n	<li>Fruit squishers</li>\n</ul>\n&nbsp\;<br />\n&nbsp\;
LOCATION:
UID:e.16.8426
SEQUENCE:3
DTSTAMP:20260420T121355Z
URL:https://chamber.gorenton.com/events/details/communities-in-schools-of-renton-tukwila-lake-washington-snack-drive-8426
END:VEVENT

END:VCALENDAR
