BEGIN:VCALENDAR
VERSION:2.0
PRODID:-//ChamberMaster//Event Calendar 2.0//EN
METHOD:PUBLISH
X-PUBLISHED-TTL:P3D
REFRESH-INTERVAL:P3D
CALSCALE:GREGORIAN
BEGIN:VEVENT
DTSTART:20210219T000000Z
DTEND:20210219T013000Z
X-MICROSOFT-CDO-ALLDAYEVENT:FALSE
SUMMARY:CommUNITY Conversations: Diversity Equity & Inclusion in the Workplace
DESCRIPTION:Join Equity Consultants\, Benita Horn and Sean Greenlee\, as they lead discussion on Diversity Equity and Inclusion in the Workplace.  Guest Speakers include Diane Dobson (Renton)\, Zenovia Harris (Kent) and Andrea Reay (Seattle Southside) - the 3 area Chamber leaders\, and Vice President of Diversity\, Equity and Inclusion with the Seattle Seahawks\, Karen Wilkins-Mickey in a candid conversation and vulnerable discussion of why these conversations and workshops are important and critical in the workplace.\n\nThis month\, we will be looking at DEI in the Small Business Workplace - \n\nFebruary ? How does diversity & inclusion work impact small businesses and Chamber organizations?\n\n\n	Better serve the increasing diversity of patrons\n	Front counter staff customer interactions\n	Staff communication with cultural differences\; Customers feeling they are treated with respect (perception = reality)\n	Impact of implicit bias and how it shows up in businesses\n	Addressing needs of customers with disabilities\n	Processes/procedures\n	ROI for businesses (i.e. negative social media reviews)
X-ALT-DESC;FMTTYPE=text/html:<p><span style="font-family:tahoma\;"><span style="font-size:14px\;">Join Equity Consultants\, Benita Horn and Sean Greenlee\, as they lead discussion on Diversity Equity and Inclusion in the Workplace.&nbsp\; Guest Speakers include<span style="color: rgb(0\, 0\, 0)\;">&nbsp\;Diane Dobson (Renton)\, Zenovia Harris (Kent) and Andrea Reay (Seattle Southside) - the 3 area Chamber leaders\, and Vice President of Diversity\, Equity and Inclusion with the Seattle Seahawks\, Karen Wilkins-Mickey in a candid conversation and vulnerable discussion of why these conversations and workshops are important and critical in the&nbsp\;</span><span style="color: rgb(0\, 0\, 0)\;">workplace.</span></span></span></p>\n\n<p><span style="font-family:tahoma\;"><span style="font-size:14px\;">This month\, we will be looking at DEI in the Small Business Workplace -&nbsp\;</span></span></p>\n\n<p><span style="font-family:tahoma\;"><span style="font-size:14px\;"><b>February</b> ? How does diversity &amp\; inclusion work impact small businesses and Chamber organizations?</span></span></p>\n\n<ul>\n	<li><span style="font-family:tahoma\;"><span style="font-size:14px\;">Better serve the increasing diversity of patrons</span></span></li>\n	<li><span style="font-family:tahoma\;"><span style="font-size:14px\;">Front counter staff customer interactions</span></span></li>\n	<li><span style="font-family:tahoma\;"><span style="font-size:14px\;">Staff communication with cultural differences\; Customers feeling they are treated with respect (perception = reality)</span></span></li>\n	<li><span style="font-family:tahoma\;"><span style="font-size:14px\;">Impact of implicit bias and how it shows up in businesses</span></span></li>\n	<li><span style="font-family:tahoma\;"><span style="font-size:14px\;">Addressing needs of customers with disabilities</span></span></li>\n	<li><span style="font-family:tahoma\;"><span style="font-size:14px\;">Processes/procedures</span></span></li>\n	<li><span style="font-family:tahoma\;"><span style="font-size:14px\;">ROI for businesses (i.e. negative social media reviews)</span></span></li>\n</ul>\n
LOCATION:Register in advance for this meeting: http://lnkiy.in/shITn
UID:e.16.7251
SEQUENCE:3
DTSTAMP:20260420T213050Z
URL:https://chamber.gorenton.com/events/details/community-conversations-diversity-equity-inclusion-in-the-workplace-02-18-2021-7251
END:VEVENT

END:VCALENDAR
