BEGIN:VCALENDAR
VERSION:2.0
PRODID:-//ChamberMaster//Event Calendar 2.0//EN
METHOD:PUBLISH
X-PUBLISHED-TTL:P3D
REFRESH-INTERVAL:P3D
CALSCALE:GREGORIAN
BEGIN:VEVENT
DTSTART:20201028T210000Z
DTEND:20201028T223000Z
X-MICROSOFT-CDO-ALLDAYEVENT:FALSE
SUMMARY:Conversation with Renton Police Department and Insurance Industry Prior to 2020 Election
DESCRIPTION:Join the Renton Chamber of Commerce\, Renton Police Department and representatives from our Insurance Industry as we provide opportunity for conversation around "best practices" prior to the upcoming election
X-ALT-DESC;FMTTYPE=text/html:Join the Renton Chamber of Commerce\, Renton Police Department and representatives from our Insurance Industry as we provide opportunity for conversation around &quot\;best practices&quot\; prior to the upcoming election&nbsp\;&nbsp\;&nbsp\;&nbsp\;
LOCATION:Virtual Zoom Meeting Register in advance: https://us02web.zoom.us/meeting/register/tZ0tde6tqD0vHNFeNngl0ZW15bb7mmujIPGK
UID:e.16.7046
SEQUENCE:3
DTSTAMP:20260421T024824Z
URL:https://chamber.gorenton.com/events/details/conversation-with-renton-police-department-and-insurance-industry-prior-to-2020-election-7046
END:VEVENT

END:VCALENDAR
