BEGIN:VCALENDAR
VERSION:2.0
PRODID:-//ChamberMaster//Event Calendar 2.0//EN
METHOD:PUBLISH
X-PUBLISHED-TTL:P3D
REFRESH-INTERVAL:P3D
CALSCALE:GREGORIAN
BEGIN:VEVENT
DTSTART:20190730T200000Z
DTEND:20190730T230000Z
X-MICROSOFT-CDO-ALLDAYEVENT:FALSE
SUMMARY:Cottages of Renton Ribbon Cutting
DESCRIPTION:Come and celebrate the opening of the Cottages of Renton's ribbon cutting with a BBQ lunch and Open House.\n\n \n\nThe Cottages of Renton\, a Memory Care Community\, offers three small\, cozy cottages\, each with a maximum of 20 residents. This design concept allows us to provide your loved one with the one-on-one senior care and personal attention he or she deserves in a familiar\, intimate\, calm and safe environment.\n\nEach Cottage opens and exits into an expansive but secure outside interior courtyard allowing residents the freedom to safely stroll\, exercise and enjoy open spaces among landscaped walkways and surroundings.\n\nEach cottage is self-contained with its own kitchen\, dining room\, laundry\, living room area with fireplace and private resident rooms. Residents create a sense of truly being at home by personalizing their bedrooms with familiar furnishings and cherished mementos.
X-ALT-DESC;FMTTYPE=text/html:<p><span style="font-size:14px\;"><span style="font-family:arial\;">Come and celebrate the opening of the Cottages of Renton&#39\;s ribbon cutting with a BBQ lunch and Open House.</span></span></p>\n\n<p>&nbsp\;</p>\n\n<p style="background-color: transparent\; box-sizing: border-box\; color: rgb(33\, 37\, 41)\; font-family: &amp\;quot\;Source Sans Pro&amp\;quot\;\,sans-serif\; font-size: 18.4px\; font-style: normal\; font-variant: normal\; font-weight: 400\; letter-spacing: normal\; margin-bottom: 16px\; margin-top: 0px\; orphans: 2\; text-align: left\; text-decoration: none\; text-indent: 0px\; text-transform: none\; -webkit-text-stroke-width: 0px\; white-space: normal\; word-spacing: 0px\;"><span style="font-size:14px\;"><span style="font-family:arial\;">The Cottages of Renton\, a Memory Care Community\, offers three small\, cozy cottages\, each with a maximum of 20 residents. This design concept allows us to provide your loved one with the one-on-one senior care and personal attention he or she deserves in a familiar\, intimate\, calm and safe environment.</span></span></p>\n\n<p style="background-color: transparent\; box-sizing: border-box\; color: rgb(33\, 37\, 41)\; font-family: &amp\;quot\;Source Sans Pro&amp\;quot\;\,sans-serif\; font-size: 18.4px\; font-style: normal\; font-variant: normal\; font-weight: 400\; letter-spacing: normal\; margin-bottom: 16px\; margin-top: 0px\; orphans: 2\; text-align: left\; text-decoration: none\; text-indent: 0px\; text-transform: none\; -webkit-text-stroke-width: 0px\; white-space: normal\; word-spacing: 0px\;"><span style="font-size:14px\;"><span style="font-family:arial\;">Each Cottage opens and exits into an expansive but secure outside interior courtyard allowing residents the freedom to safely stroll\, exercise and enjoy open spaces among landscaped walkways and surroundings.</span></span></p>\n\n<p style="background-color: transparent\; box-sizing: border-box\; color: rgb(33\, 37\, 41)\; font-family: &amp\;quot\;Source Sans Pro&amp\;quot\;\,sans-serif\; font-size: 18.4px\; font-style: normal\; font-variant: normal\; font-weight: 400\; letter-spacing: normal\; margin-bottom: 16px\; margin-top: 0px\; orphans: 2\; text-align: left\; text-decoration: none\; text-indent: 0px\; text-transform: none\; -webkit-text-stroke-width: 0px\; white-space: normal\; word-spacing: 0px\;"><span style="font-size:14px\;"><span style="font-family:arial\;">Each cottage is self-contained with its own kitchen\, dining room\, laundry\, living room area with fireplace and private resident rooms. Residents create a sense of truly being at home by personalizing their bedrooms with familiar furnishings and cherished mementos.</span></span></p>\n
LOCATION:The Cottages of Renton 17033-108th Ave SE\, Renton\, Washington 98055
UID:e.16.6603
SEQUENCE:3
DTSTAMP:20260424T022114Z
URL:https://chamber.gorenton.com/events/details/cottages-of-renton-ribbon-cutting-6603
END:VEVENT

END:VCALENDAR
