BEGIN:VCALENDAR
VERSION:2.0
PRODID:-//ChamberMaster//Event Calendar 2.0//EN
METHOD:PUBLISH
X-PUBLISHED-TTL:P3D
REFRESH-INTERVAL:P3D
CALSCALE:GREGORIAN
BEGIN:VEVENT
DTSTART:20190726T180000Z
DTEND:20190729T000000Z
X-MICROSOFT-CDO-ALLDAYEVENT:FALSE
SUMMARY:Craft Beer Garden @ Renton River Days
DESCRIPTION:Bring your friends and enjoy local and national craft beer selections while supporting the Renton River Days Fund. Hourly giveaways will start at noon on Friday and repeat on the hour until 6 pm Friday and Saturday and 5 pm on Sunday. Prizes include tote Bags\, Water Bottles\, Frisbee\, cozies\, bottle openers and more! PLUS: There will be a chance to win VIP tickets for Seafair! These tickets include a day at Seafair in the Captain's Tent\, which is located right next to the start & finish line at the hydroplane races on Lake Washington. Each ticket is a $150.00 value with food provided by Rain City Catering and unlimited non alcoholic beverages. The Craft Beer Garden @ Renton River Days may be enjoyed by patrons ages 21 and over.
X-ALT-DESC;FMTTYPE=text/html:Bring your friends and enjoy local and national craft beer selections while supporting the Renton River Days Fund. Hourly giveaways will start at noon on Friday and repeat on the hour until 6 pm Friday and Saturday and 5 pm on Sunday. Prizes include tote Bags\, Water Bottles\, Frisbee\, cozies\, bottle openers and more! <strong>PLUS</strong>: <strong>There will be a chance to win VIP tickets for Seafair! </strong>These tickets include a day at Seafair in the Captain&rsquo\;s Tent\, which is located right next to the start &amp\; finish line at the hydroplane races on Lake Washington. Each ticket is a $150.00 value with food provided by Rain City Catering and unlimited non alcoholic beverages. The Craft Beer Garden @ Renton River Days may be enjoyed by patrons ages 21 and over.
LOCATION:Liberty Park 1101 Bronson Way N Renton\, WA 98057
UID:e.16.6605
SEQUENCE:3
DTSTAMP:20260424T021955Z
URL:https://chamber.gorenton.com/events/details/craft-beer-garden-renton-river-days-6605
END:VEVENT

END:VCALENDAR
