BEGIN:VCALENDAR
VERSION:2.0
PRODID:-//ChamberMaster//Event Calendar 2.0//EN
METHOD:PUBLISH
X-PUBLISHED-TTL:P3D
REFRESH-INTERVAL:P3D
CALSCALE:GREGORIAN
BEGIN:VEVENT
DTSTART:20181109T170000Z
DTEND:20181110T230000Z
X-MICROSOFT-CDO-ALLDAYEVENT:FALSE
SUMMARY:Cross and Crown Lutheran Church-Holiday Boutique
DESCRIPTION:HOLIDAY BOUTIQUE Friday and Saturday NOV 9 & 10\, 2018 Cross & Crown Lutheran Church 10940 SE 168th St\, Renton\, WA 98055 The 30+ year annual event is filled with a variety of vendors\; collectibles - more\; baked goods\; hourly free raffle and lefse\, a Scandinavian favorite. A soup lunch will be available and we are bringing back pies from Ala Mode Pies. Jump start your holidays by checking out these vendors from 9:00 am - 4:00 pm Friday and 9:00 am - 3:00 pm Saturday in a festive setting! And Santa Claus is coming to town and will be available for picture taking on Saturday morning from 10:00 am to 12:00 pm.
X-ALT-DESC;FMTTYPE=text/html:HOLIDAY BOUTIQUE Friday and Saturday NOV 9 &amp\; 10\, 2018 Cross &amp\; Crown Lutheran Church 10940 SE 168th St\, Renton\, WA 98055 The 30+ year annual event is filled with a variety of vendors\; collectibles - more\; baked goods\; hourly free raffle and lefse\, a Scandinavian favorite. A soup lunch will be available and we are bringing back pies from Ala Mode Pies. Jump start your holidays by checking out these vendors from 9:00 am - 4:00 pm Friday and 9:00 am - 3:00 pm Saturday in a festive setting! And Santa Claus is coming to town and will be available for picture taking on Saturday morning from 10:00 am to 12:00 pm.
LOCATION:10940 SE 168th St Renton\, WA 98055
UID:e.16.5930
SEQUENCE:3
DTSTAMP:20260424T124045Z
URL:https://chamber.gorenton.com/events/details/cross-and-crown-lutheran-church-holiday-boutique-5930
END:VEVENT

END:VCALENDAR
