BEGIN:VCALENDAR
VERSION:2.0
PRODID:-//ChamberMaster//Event Calendar 2.0//EN
METHOD:PUBLISH
X-PUBLISHED-TTL:P3D
REFRESH-INTERVAL:P3D
CALSCALE:GREGORIAN
BEGIN:VEVENT
DTSTART:20190602T020000Z
DTEND:20190602T043000Z
X-MICROSOFT-CDO-ALLDAYEVENT:FALSE
SUMMARY:Dan Duval Good Vibes Quartet at Luther's Table
DESCRIPTION:Luther's Table presents the Dan Duval / Good Vibes Quartet - a lively NW jazz & blues combo that features Vibraphone\, Sax\, Bass & Drums. Dan's four mallet vibe technique and the group's unique instrumentation\, reminiscent of The Modern Jazz Quartet\, gives their interpretation of jazz classics and their original compositions a fresh and melodic flavor. From bebop and swing to Latin and blues their music is creative and balanced with talented improvisation. Their first CD release Badlands Express is now available at Amazon and iTunes.
X-ALT-DESC;FMTTYPE=text/html:Luther&#39\;s Table presents the Dan Duval / Good Vibes Quartet - a lively NW jazz &amp\; blues combo that features Vibraphone\, Sax\, Bass &amp\; Drums. Dan&#39\;s four mallet vibe technique and the group&#39\;s unique instrumentation\, reminiscent of The Modern Jazz Quartet\, gives their interpretation of jazz classics and their original compositions a fresh and melodic flavor. From bebop and swing to Latin and blues their music is creative and balanced with talented improvisation. Their first CD release Badlands Express is now available at Amazon and iTunes.
LOCATION:Luther's Table\, 419 S 2nd St. #1\, Renton\, WA 98057
UID:e.16.6534
SEQUENCE:3
DTSTAMP:20260424T021922Z
URL:https://chamber.gorenton.com/events/details/dan-duval-good-vibes-quartet-at-luther-s-table-06-01-2019-6534
END:VEVENT

END:VCALENDAR
