BEGIN:VCALENDAR
VERSION:2.0
PRODID:-//ChamberMaster//Event Calendar 2.0//EN
METHOD:PUBLISH
X-PUBLISHED-TTL:P3D
REFRESH-INTERVAL:P3D
CALSCALE:GREGORIAN
BEGIN:VEVENT
DTSTART:20260101T040000Z
DTEND:20260101T080000Z
X-MICROSOFT-CDO-ALLDAYEVENT:FALSE
SUMMARY:Darren’s New Year Eve
DESCRIPTION:Free Admission\, this is a 21+ event.\n\n\n\nBring in 2026 at Renton's hidden gem. Celebrate in style with complimentary champagne at midnight. \n\n\n\nCount down to next year with your best friends and drinking buddies with curated wine\, beer and cocktails. \n\nRSVP Here.
X-ALT-DESC;FMTTYPE=text/html:<p><br />\nFree Admission\, this is a 21+ event.<br />\n<br />\nBring in 2026 at Renton&rsquo\;s hidden gem. Celebrate in style with complimentary champagne at midnight.&nbsp\;<br />\n<br />\nCount down to next year with your best friends and drinking buddies with curated wine\, beer and cocktails.&nbsp\;</p>\n\n<p>RSVP <a href="https://partiful.com/e/AWLZdjQutIwKpepSPPdq">Here</a>.&nbsp\;<br />\n&nbsp\;</p>\n
LOCATION:200 S Tobin St Unit D Renton WA 98057 Find the glowing blue sign in the parking lot behind the HealHub Behavioral Health Center
UID:e.16.31571
SEQUENCE:3
DTSTAMP:20260426T011725Z
URL:https://chamber.gorenton.com/events/details/darren-s-new-year-eve-31571
END:VEVENT

END:VCALENDAR
