BEGIN:VCALENDAR
VERSION:2.0
PRODID:-//ChamberMaster//Event Calendar 2.0//EN
METHOD:PUBLISH
X-PUBLISHED-TTL:P3D
REFRESH-INTERVAL:P3D
CALSCALE:GREGORIAN
BEGIN:VEVENT
DTSTART:20190316T180000Z
DTEND:20190316T192500Z
X-MICROSOFT-CDO-ALLDAYEVENT:FALSE
SUMMARY:Den Skyldige (The Guilty) 2018 Free Film Screening + Discussion 3-16-19
DESCRIPTION:Synopsis: Alarm dispatcher and former police officer Asger Holm answers an emergency call from a kidnapped woman. When the call is suddenly disconnected\, the search for the woman and her kidnapper begins.
X-ALT-DESC;FMTTYPE=text/html:Synopsis: Alarm dispatcher and former police officer Asger Holm answers an emergency call from a kidnapped woman. When the call is suddenly disconnected\, the search for the woman and her kidnapper begins.
LOCATION:Renton Public KCLS Main Library\, King Parker Meeting Room\, 100 Mill Ave S. Renton\, WA 98057
UID:e.16.6248
SEQUENCE:3
DTSTAMP:20260424T065215Z
URL:https://chamber.gorenton.com/events/details/den-skyldige-the-guilty-2018-free-film-screening-discussion-3-16-19-6248
END:VEVENT

END:VCALENDAR
