BEGIN:VCALENDAR
VERSION:2.0
PRODID:-//ChamberMaster//Event Calendar 2.0//EN
METHOD:PUBLISH
X-PUBLISHED-TTL:P3D
REFRESH-INTERVAL:P3D
CALSCALE:GREGORIAN
BEGIN:VEVENT
DTSTART:20190405T010000Z
DTEND:20190405T020000Z
X-MICROSOFT-CDO-ALLDAYEVENT:FALSE
SUMMARY:Diamonds in the Ether: Tuning In to Northwest Radio History
DESCRIPTION:Join historian Feliks Banel for a discussion of radio history in the PNW. With a mixture of vintage audio\, historic images\, and expert storytelling\, Banel revisits the power of radio in the Evergreen State then and now\, and looks ahead to the unpredictable future of local radio.
X-ALT-DESC;FMTTYPE=text/html:Join historian Feliks Banel for a discussion of radio history in the PNW. With a mixture of vintage audio\, historic images\, and expert storytelling\, Banel revisits the power of radio in the Evergreen State then and now\, and looks ahead to the unpredictable future of local radio.
LOCATION:Renton History Museum 235 Mill Ave. S\, Renton WA 98057
UID:e.16.6268
SEQUENCE:3
DTSTAMP:20260424T052410Z
URL:https://chamber.gorenton.com/events/details/diamonds-in-the-ether-tuning-in-to-northwest-radio-history-6268
END:VEVENT

END:VCALENDAR
