BEGIN:VCALENDAR
VERSION:2.0
PRODID:-//ChamberMaster//Event Calendar 2.0//EN
METHOD:PUBLISH
X-PUBLISHED-TTL:P3D
REFRESH-INTERVAL:P3D
CALSCALE:GREGORIAN
BEGIN:VEVENT
DTSTART:20220824T180000Z
DTEND:20220824T220000Z
X-MICROSOFT-CDO-ALLDAYEVENT:FALSE
SUMMARY:Dick's Drive-In Food Truck!
DESCRIPTION:Join us at Weatherly Inn Renton on Wednesday\, August 24th from 11am-3pm as we host the locally famous\, Dick's Drive-In Food Truck.\n\n \n\nThey will be serving burgers\, milkshakes\, sodas\, and chips.\n\n \n\nFree meals will be provided for healthcare workers and people who are on our wait list to move in.
X-ALT-DESC;FMTTYPE=text/html:<div>Join us at Weatherly Inn Renton on Wednesday\, August 24th from 11am-3pm as we host the locally famous\, Dick&#39\;s Drive-In Food Truck.<br />\n&nbsp\;</div>\n\n<div>They will be serving burgers\, milkshakes\, sodas\, and chips.<br />\n&nbsp\;</div>\n\n<div>Free meals will be provided for healthcare workers and people who are on our wait list to move in.</div>\n
LOCATION:4550 Talbot Road South Renton\, WA 98055
UID:e.16.13505
SEQUENCE:3
DTSTAMP:20260419T202828Z
URL:https://chamber.gorenton.com/events/details/dick-s-drive-in-food-truck-13505
END:VEVENT

END:VCALENDAR
