BEGIN:VCALENDAR
VERSION:2.0
PRODID:-//ChamberMaster//Event Calendar 2.0//EN
METHOD:PUBLISH
X-PUBLISHED-TTL:P3D
REFRESH-INTERVAL:P3D
CALSCALE:GREGORIAN
BEGIN:VEVENT
DTSTART;VALUE=DATE:20221217
DTEND;VALUE=DATE:20221218
TRANSP:TRANSPARENT
X-MICROSOFT-CDO-ALLDAYEVENT:TRUE
SUMMARY:Discover the holiday magic of Ice Skating at Sno-King Ice Arena December 17th to January 1st!
DESCRIPTION:Join us all December long for ice skating fun for the whole family! Exciting theme days\, special guests including Santa plus exclusive giveaways. If you don't own a pair of skates no problem\, we offer skate rentals!\n\n	Fun for the whole family\n	Daily skating sessions December 17th-January 1st\n	Jam to your favorite holiday music\n	Special guests including Santa and Seattle Thunderbirds Cool Bird Mascot\n	Special Giveaways\n	Selfie photo stations\n	FREE skating lessons* (vary by location/date)
X-ALT-DESC;FMTTYPE=text/html:Join us all December long for ice skating fun for the whole family!&nbsp\;Exciting theme days\, special guests including Santa plus exclusive giveaways. If you don&#39\;t own a pair of skates no problem\, we offer skate rentals!\n<ul>\n	<li>Fun for the whole family</li>\n	<li>Daily skating sessions December 17th-January 1st</li>\n	<li>Jam to your favorite holiday music</li>\n	<li>Special guests including Santa and Seattle Thunderbirds Cool Bird Mascot</li>\n	<li>Special Giveaways</li>\n	<li>Selfie photo stations</li>\n	<li>FREE skating lessons* (vary by location/date)</li>\n</ul>\n
LOCATION:Sno-King Ice Arena 12620 164th Ave SE Renton\, WA 98059
UID:e.16.13746
SEQUENCE:3
DTSTAMP:20260419T151458Z
URL:https://chamber.gorenton.com/events/details/discover-the-holiday-magic-of-ice-skating-at-all-sno-king-ice-arena-locations-december-17th-to-january-1st-13746
END:VEVENT

END:VCALENDAR
