BEGIN:VCALENDAR
VERSION:2.0
PRODID:-//ChamberMaster//Event Calendar 2.0//EN
METHOD:PUBLISH
X-PUBLISHED-TTL:P3D
REFRESH-INTERVAL:P3D
CALSCALE:GREGORIAN
BEGIN:VEVENT
DTSTART;VALUE=DATE:20221105
DTEND;VALUE=DATE:20221106
TRANSP:TRANSPARENT
X-MICROSOFT-CDO-ALLDAYEVENT:TRUE
SUMMARY:Diversity in Law Enforcement: Career Workshop
DESCRIPTION:We are excited to announce that South King County Valley Police Agencies (Renton\, Auburn\, Des Moines\, Federal Way\, Kent\, Tukwila\, Port of Seattle) have partnered to host their first Diversity in Law Enforcement: Career Workshop! \n\n \n\nPolice departments across South King County are seeking qualified candidates from diverse backgrounds who may be interested in pursuing a meaningful career in law enforcement but are unsure how the hiring process works. In this workshop\, participants will learn about the benefits of a career in law enforcement\, how to navigate the hiring process and have the chance to connect with members in the profession. \n\n \n\nWorkshop participants will begin the day with various guest speakers and then will rotate through four breakout sessions. \n\n \n\nTopics covered include: \n\n	Why Choose a Career in Law Enforcement\n	Oral Board Interview\n	Benefits of the Profession\n	Background Investigations\n	Written & Physical Testing\n	Training and More!\n\n Workshop Schedule: \n\n\n	Check-In & Continental Breakfast - 8:15 a.m.\n	Workshop Begins - 9:00 a.m.\n	Lunch - 12:30 p.m.\n	Workshop Ends - 3:30 p.m.\n\n We are committed to recruiting participants who reflect the diversity of South King County\, such as people who identify as Black\, Indigenous\, or People of Color\, members of the LGBTQIA+ community\, women\, bilingual individuals\, and those with no prior law enforcement experience.\n\n \n\nDiversity in Law Enforcement: Career Workshop\n\nSaturday\, November 5\, 2022 \\\\ 8:15 a.m. - 3:30 p.m. \\\\ Renton\, WA\n\nRSVP Required \\\\ Must be 18+ \\\\ Lunch Provided\n\n \n\nRegister Today! rentonwa.gov/valleypolicecareers\n\n \n\nRSVP Deadline: October 28.
X-ALT-DESC;FMTTYPE=text/html:We are excited to announce that South King County Valley Police Agencies (Renton\, <em>Auburn\, Des Moines\, Federal Way\, Kent\, Tukwila\, Port of Seattle</em>) have partnered to host their first <strong><em>Diversity in Law Enforcement: Career Workshop! </em></strong><br />\n&nbsp\;<br />\nPolice departments across South King County are seeking qualified candidates from diverse backgrounds who may be interested in pursuing a meaningful career in law enforcement but are unsure how the hiring process works. In this workshop\, participants will learn about the benefits of a career in law enforcement\, how to navigate the hiring process and have the chance to connect with members in the profession.&nbsp\;<br />\n&nbsp\;<br />\n<span style="color:#050505">Workshop participants will begin the day with various guest speakers and then will rotate through four breakout sessions. </span><br />\n&nbsp\;<br />\n<strong><span style="color:#050505">Topics covered include:</span></strong>&nbsp\;\n<ul>\n	<li><span style="color:black">Why Choose a Career in Law Enforcement</span></li>\n	<li><span style="color:black">Oral Board Interview</span></li>\n	<li><span style="color:black">Benefits of the Profession</span></li>\n	<li><span style="color:black">Background Investigations</span></li>\n	<li><span style="color:black">Written &amp\; Physical Testing</span></li>\n	<li><span style="color:black">Training and More!</span></li>\n</ul>\n&nbsp\;<strong><span style="color:black">Workshop Schedule:</span></strong>&nbsp\;\n\n<ul>\n	<li><span style="color:black">Check-In &amp\; Continental Breakfast - 8:15 a.m.</span></li>\n	<li><span style="color:black">Workshop Begins - 9:00 a.m.</span></li>\n	<li><span style="color:black">Lunch - 12:30 p.m.</span></li>\n	<li><span style="color:black">Workshop Ends - 3:30 p.m.</span></li>\n</ul>\n&nbsp\;<em>We are committed to recruiting participants who reflect the diversity of South King County\, such as people who identify as Black\, Indigenous\, or People of Color\, members of the LGBTQIA+ community\, women\, bilingual individuals\, and those with no prior law enforcement experience.</em><br />\n&nbsp\;<br />\n<strong>Diversity in Law Enforcement: Career Workshop<br />\nSaturday\, November 5\, 2022 \\\\ 8:15 a.m. - 3:30 p.m. \\\\ Renton\, WA</strong><br />\n<strong>RSVP Required \\\\ Must be 18+ \\\\ Lunch Provided</strong><br />\n&nbsp\;<br />\n<strong>Register Today!</strong> <span style="color:#4472C4"><a href="https://www.rentonwa.gov/valleypolicecareers"><strong><span style="color:#4472C4">rentonwa.gov/valleypolicecareers</span></strong></a></span><br />\n&nbsp\;<br />\n<strong>RSVP Deadline: October 28</strong><em>.</em><br />\n&nbsp\;<br />\n&nbsp\;
LOCATION:Renton\, WA
UID:e.16.13619
SEQUENCE:3
DTSTAMP:20260419T174342Z
URL:https://chamber.gorenton.com/events/details/diversity-in-law-enforcement-career-workshop-13619
END:VEVENT

END:VCALENDAR
