BEGIN:VCALENDAR
VERSION:2.0
PRODID:-//ChamberMaster//Event Calendar 2.0//EN
METHOD:PUBLISH
X-PUBLISHED-TTL:P3D
REFRESH-INTERVAL:P3D
CALSCALE:GREGORIAN
BEGIN:VEVENT
DTSTART:20220922T010000Z
DTEND:20220922T020000Z
X-MICROSOFT-CDO-ALLDAYEVENT:FALSE
SUMMARY:DIY Bookkeeping Webinar for Makers\, Crafts and Very Small Businesses
DESCRIPTION:In this webinar aimed at makers\, crafters and very small businesses\, we'll discuss why bookkeeping is important\, and simple steps to DIY your bookkeeping. You'll learn how to make sure your small business finances are organized and ready for sales\, B&O and income tax preparation. \n\nWednesday\, September 21\, 2022\, 6-7pm\, on Zoom
X-ALT-DESC;FMTTYPE=text/html:<p>In this webinar aimed at makers\, crafters and very small businesses\, we&rsquo\;ll discuss why bookkeeping is important\, and simple steps to DIY your bookkeeping. You&rsquo\;ll learn how to make sure your small business finances are organized and ready for sales\, B&amp\;O and income tax preparation.&nbsp\;</p>\n\n<p>Wednesday\, September 21\, 2022\, 6-7pm\, on Zoom</p>\n
LOCATION:Zoom\, link provided when you register.
UID:e.16.13494
SEQUENCE:3
DTSTAMP:20260419T202850Z
URL:https://chamber.gorenton.com/events/details/diy-bookkeeping-webinar-for-makers-crafts-and-very-small-businesses-13494
END:VEVENT

END:VCALENDAR
