BEGIN:VCALENDAR
VERSION:2.0
PRODID:-//ChamberMaster//Event Calendar 2.0//EN
METHOD:PUBLISH
X-PUBLISHED-TTL:P3D
REFRESH-INTERVAL:P3D
CALSCALE:GREGORIAN
BEGIN:VEVENT
DTSTART:20210727T230000Z
DTEND:20210728T030000Z
X-MICROSOFT-CDO-ALLDAYEVENT:FALSE
SUMMARY:Dog Days of Summer 2021
DESCRIPTION:Stop by dog friendly businesses...\n\n\n\nCommon Ground Cupcakes & Coffee - Passing out dog treats & puppucinnos until 4p when they close.\n\n\n\nJunkyard Bones - Swing into Junkyard Bones and sniff all of their delicious treats and goodies.  They will be open until 6p.\n\n\n\nFour Generals Brewing - Pick up dinner to go from a downtown restaurant (like one from Renton's Downtown Regional Passport) and take your four legged friend over to Four Generals for a beer or cider while you eat.\n\n\n\nRiver Valley Cheese - Will have cheese treats for the pups and marionberry cheesecakes for the humans.  Also popping up inside of RVC will be South County Cats\, Impervious Pets\, CPR Seattle and Eastside Vetrinary Associates.  \n\n\n\nSparkle Gifts & Whatnots - Stop by Sparkle for some water and have your pup's picture taken for The Dogs of Sparkle!  Plus shop with Barbara Ann Handbags will be popping up with her dog vests\, leashes and other dog accessories.  Goodie bags from Mudd Bay will also be given out at Sparkle.
X-ALT-DESC;FMTTYPE=text/html:Stop by dog friendly businesses...<br />\n<br />\n<strong>Common Ground Cupcakes &amp\; Coffee -</strong> Passing out dog treats &amp\; puppucinnos until 4p when they close.<br />\n<br />\n<strong>Junkyard Bones - </strong>Swing into Junkyard Bones and sniff all of their delicious treats and goodies.&nbsp\; They will be open until 6p.<br />\n<br />\n<strong>Four Generals Brewing -</strong> Pick up dinner to go from a downtown restaurant (like one from Renton&#39\;s Downtown Regional Passport) and take your four legged friend over to Four Generals for a beer or cider while you eat.<br />\n<br />\n<strong>River Valley Cheese -</strong> Will have cheese treats for the pups and marionberry cheesecakes for the humans.&nbsp\; Also popping up inside of RVC will be South County Cats\, Impervious Pets\, CPR Seattle and Eastside Vetrinary Associates.&nbsp\;&nbsp\;<br />\n<br />\n<strong>Sparkle Gifts &amp\; Whatnots - </strong>Stop by Sparkle for some water and have your pup&#39\;s picture taken for The Dogs of Sparkle!&nbsp\; Plus shop with Barbara Ann Handbags will be popping up with her dog vests\, leashes and other dog accessories.&nbsp\; Goodie bags from Mudd Bay will also be given out at Sparkle.<br />\n<br />\n<br />\n&nbsp\;
LOCATION:
UID:e.16.8247
SEQUENCE:3
DTSTAMP:20260420T144408Z
URL:https://chamber.gorenton.com/events/details/dog-days-of-summer-2021-8247
END:VEVENT

END:VCALENDAR
