BEGIN:VCALENDAR
VERSION:2.0
PRODID:-//ChamberMaster//Event Calendar 2.0//EN
METHOD:PUBLISH
X-PUBLISHED-TTL:P3D
REFRESH-INTERVAL:P3D
CALSCALE:GREGORIAN
BEGIN:VEVENT
DTSTART:20211007T190000Z
DTEND:20211007T203000Z
X-MICROSOFT-CDO-ALLDAYEVENT:FALSE
SUMMARY:Doug Baldwin Speaking on Family First Community Center in Renton
DESCRIPTION:The Rotary Club of Renton invites you to join retired Seattle Seahawk Doug Baldwin for an update on his passion for the new Family First Community Center. The new facility will be next to Cascade Elementary School in Renton's Benson Hill Neighborhood.
X-ALT-DESC;FMTTYPE=text/html:The Rotary Club of Renton invites you to join retired Seattle Seahawk Doug Baldwin for an update on his passion for the new Family First Community Center. The new facility will be next to Cascade Elementary School in Renton&#39\;s Benson Hill Neighborhood.&nbsp\;
LOCATION:Fairwood Golf & Country Club
UID:e.16.9102
SEQUENCE:3
DTSTAMP:20260420T115805Z
URL:https://chamber.gorenton.com/events/details/doug-baldwin-speaking-on-family-first-community-center-in-renton-9102
END:VEVENT

END:VCALENDAR
