BEGIN:VCALENDAR
VERSION:2.0
PRODID:-//ChamberMaster//Event Calendar 2.0//EN
METHOD:PUBLISH
X-PUBLISHED-TTL:P3D
REFRESH-INTERVAL:P3D
CALSCALE:GREGORIAN
BEGIN:VEVENT
DTSTART:20221130T230000Z
DTEND:20221201T000000Z
X-MICROSOFT-CDO-ALLDAYEVENT:FALSE
SUMMARY:Downsize to the Right Size
DESCRIPTION:Are you overwhelmed just by the thought of decluttering your home?  Discover Tips from the Rightsizing for Seniors team on how to reduce your stuff in our Downsizing Simplified Webinar presented by Liz Baker and Terry Denend.
X-ALT-DESC;FMTTYPE=text/html:Are you overwhelmed just by the thought of decluttering your home?&nbsp\; Discover Tips from the Rightsizing for Seniors team on how to reduce your stuff in our Downsizing Simplified Webinar presented by Liz Baker and Terry Denend.&nbsp\;
LOCATION:Free Webinar Register today!
UID:e.16.13699
SEQUENCE:3
DTSTAMP:20260419T162837Z
URL:https://chamber.gorenton.com/events/details/downsize-to-the-right-size-11-30-2022-13699
END:VEVENT

END:VCALENDAR
