BEGIN:VCALENDAR
VERSION:2.0
PRODID:-//ChamberMaster//Event Calendar 2.0//EN
METHOD:PUBLISH
X-PUBLISHED-TTL:P3D
REFRESH-INTERVAL:P3D
CALSCALE:GREGORIAN
BEGIN:VEVENT
DTSTART:20210720T180000Z
DTEND:20210721T230000Z
X-MICROSOFT-CDO-ALLDAYEVENT:FALSE
SUMMARY:Downsizing Workshop: You CAN do This!
DESCRIPTION:Join us at The Lakeshore for this two-day downsizing workshop with the best experts in the industry. In the workshop you will learn how to manage your stress and emotions. What to do with your stuff\, how to sell your home and much more! Please RSVP today at (206) 772-1200
X-ALT-DESC;FMTTYPE=text/html:Join us at The Lakeshore for this two-day downsizing workshop with the best experts in the industry. In the workshop you will learn how to manage your stress and emotions. What to do with your stuff\, how to sell your home and much more! Please RSVP today at (206) 772-1200
LOCATION:The Lakeshore Retirement Community
UID:e.16.8244
SEQUENCE:3
DTSTAMP:20260420T144128Z
URL:https://chamber.gorenton.com/events/details/downsizing-workshop-you-can-do-this-8244
END:VEVENT

END:VCALENDAR
