BEGIN:VCALENDAR
VERSION:2.0
PRODID:-//ChamberMaster//Event Calendar 2.0//EN
METHOD:PUBLISH
X-PUBLISHED-TTL:P3D
REFRESH-INTERVAL:P3D
CALSCALE:GREGORIAN
BEGIN:VEVENT
DTSTART:20220618T160000Z
DTEND:20220618T180000Z
X-MICROSOFT-CDO-ALLDAYEVENT:FALSE
SUMMARY:Downtown Renton Clean-Up Event
DESCRIPTION:Join the Renton Downtown Partnership at our quarterly clean-up event of the Downtown Core.  \n\nJune 18th 9-11am\n\nMeeting in front of the Chamber of Commerce\n\nSign Up Here:  https://renton.maestrocm.com/#/landing/volunteer-signup/06cd2d01-bf3c-4708-ac25-5059e90ca60f/downtown-clean-up-61822
X-ALT-DESC;FMTTYPE=text/html:<p>Join the Renton Downtown Partnership at our quarterly clean-up event of the Downtown Core.&nbsp\;&nbsp\;<br />\nJune 18th 9-11am<br />\nMeeting in front of the Chamber of Commerce<br />\nSign Up Here:&nbsp\;&nbsp\;<a href="https://renton.maestrocm.com/#/landing/volunteer-signup/06cd2d01-bf3c-4708-ac25-5059e90ca60f/downtown-clean-up-61822" style="color: rgb(17\, 85\, 204)\;" target="_blank">https://renton.maestrocm.com/#/landing/volunteer-signup/06cd2d01-bf3c-4708-ac25-5059e90ca60f/downtown-clean-up-61822</a></p>\n
LOCATION:Meeting in front of the Renton Chamber of Commerce
UID:e.16.11794
SEQUENCE:3
DTSTAMP:20260420T002633Z
URL:https://chamber.gorenton.com/events/details/downtown-renton-clean-up-event-06-18-2022-11794
END:VEVENT

END:VCALENDAR
