BEGIN:VCALENDAR
VERSION:2.0
PRODID:-//ChamberMaster//Event Calendar 2.0//EN
METHOD:PUBLISH
X-PUBLISHED-TTL:P3D
REFRESH-INTERVAL:P3D
CALSCALE:GREGORIAN
BEGIN:VEVENT
DTSTART;VALUE=DATE:20211208
DTEND;VALUE=DATE:20211209
TRANSP:TRANSPARENT
X-MICROSOFT-CDO-ALLDAYEVENT:TRUE
SUMMARY:Drama Class for Tweens (in English) at Theatre33 - first week is free!
DESCRIPTION:After school drama classes at Theatre33\, a bilingual nonprofit community theater in Bellevue!  Classes for teens in Russian (Thursday and Sunday) and tweens in English (Wednesday and Sunday) run year long - Fall\, Winter and Spring Sessions. Great opportunity for kids to explore different career opportunities\, learn about the history of theater\, participate in hands-on activities\, build skills important in life and school -  all in a safe and nurturing environment.  Wonderful option for homeschooled kiddos.  The first week is free. To sign up\, visit our website: https://www.theatre33wa.org/youth-group
X-ALT-DESC;FMTTYPE=text/html:<span style="color:rgb(5\, 5\, 5)\; font-family:segoe ui historic\,segoe ui\,helvetica\,arial\,sans-serif\; font-size:15px">After school drama classes at&nbsp\;</span><span style="color:rgb(5\, 5\, 5)\; font-family:segoe ui historic\,segoe ui\,helvetica\,arial\,sans-serif\; font-size:15px"><a class="oajrlxb2 g5ia77u1 qu0x051f esr5mh6w e9989ue4 r7d6kgcz rq0escxv nhd2j8a9 nc684nl6 p7hjln8o kvgmc6g5 cxmmr5t8 oygrvhab hcukyx3x jb3vyjys rz4wbd8a qt6c0cv9 a8nywdso i1ao9s8h esuyzwwr f1sip0of lzcic4wl q66pz984 gpro0wi8 b1v8xokw" href="https://www.facebook.com/theatre33.wa/?__cft__[0]=AZVQSflbxd5NRl3oZhvwryDMtG4OA89w0UA0miN-WVr3KWUnM9rgZyYz7YaeU4n0ZCPo2un9ayFpEx66ttazILQRKwzXEbeuKNJkAtcOaqd5ElGr7YIpFCxGJOGF5dAfOBb88FUvIIFEGIQoPVKQnvLfCqatHxojQIjimsc2_327EA&amp\;__tn__=kK-R" style="color: var(--accent)\; cursor: pointer\; text-decoration-line: none\; outline: none\; list-style: none\; border-width: 0px\; border-style: initial\; border-color: initial\; padding: 0px\; margin: 0px\; touch-action: manipulation\; background-color: transparent\; text-align: inherit\; display: inline\; -webkit-tap-highlight-color: transparent\; box-sizing: border-box\; font-family: inherit\;" tabindex="0"><span style="font-family:inherit">Theatre33</span></a>\, a bilingual nonprofit community theater in Bellevue!&nbsp\; Classes&nbsp\;for teens in Russian (Thursday and Sunday) and tweens in English (Wednesday and Sunday) run year long - Fall\, Winter and Spring Sessions. Great opportunity for kids to explore different career opportunities\, learn about the history of theater\, participate in hands-on activities\, build skills important in life and school -&nbsp\; all in a safe and nurturing environment.&nbsp\; Wonderful option for homeschooled kiddos.&nbsp\; The first week is free. To sign up\, visit our website:&nbsp\;</span>https://www.theatre33wa.org/youth-group<span style="color:rgb(5\, 5\, 5)\; font-family:segoe ui historic\,segoe ui\,helvetica\,arial\,sans-serif\; font-size:15px">&nbsp\;</span>
LOCATION:Theatre33 1632 116th Ave NE Suite D Bellevue\, WA 98004
UID:e.16.10103
SEQUENCE:3
DTSTAMP:20260420T074302Z
URL:https://chamber.gorenton.com/events/details/drama-class-for-tweens-in-english-at-theatre33-first-week-is-free-12-08-2021-10103
END:VEVENT

END:VCALENDAR
