BEGIN:VCALENDAR
VERSION:2.0
PRODID:-//ChamberMaster//Event Calendar 2.0//EN
METHOD:PUBLISH
X-PUBLISHED-TTL:P3D
REFRESH-INTERVAL:P3D
CALSCALE:GREGORIAN
BEGIN:VEVENT
DTSTART:20260104T230000Z
DTEND:20260105T030000Z
X-MICROSOFT-CDO-ALLDAYEVENT:FALSE
SUMMARY:Drum Roll "Sunday Funday" Fundraiser to benefit Sustainable Renton
DESCRIPTION:DrumRoll is hosting their first "Sunday Funday" of the year as a fundraiser for Sustainable Renton!\n\n\n\nYou'll be the first to try the newest additions to Drum Roll's menu wine cocktails ("Citrus Lime Sublime" and "Cherry Bomb"). Then you'll get to experiment with a variety of wines and flavors and decide what appeals to you most.  A Flavor Infusion Bar will be provided by Sustainable Renton. Come with your mind open and your creativity flowing!\n\n\nExperimental flavors to include:\n\n\n	Pineapple\, Ginger\, Honey & Sage Shrub\n	Blackberry Lemonbalm Shrub\n	Cherry Vanilla Shrub with Balsamic Vinegar\n	Sweet Basil Syrup\n	Mulled Spice Syrup (cranberry\, orange\, clove\, cinnamon\, allspice)\n	Sweet & Smokey Syrup (smoked paprika\, & Thai chili)\n\n\nWhether you want a tasting of a low ABV wine\, or a completely alcohol-free shrub or sparkling seltzer from our infusion bar\, it's all included in your ticket price!\n\n\n\nTickets: $40 and includes taskings of both cocktails and access to the infusion bar!\n\n \n\nAll proceeds benefit Sustainable Renton's mission: To empower neighbors to lead with justice and care for our shared environment by providing opportunities for community engagement in environmental stewardship\, food justice\, and sustainable education.
X-ALT-DESC;FMTTYPE=text/html:<div><span style="font-size:14px"><strong>DrumRoll is hosting their first &quot\;Sunday Funday&quot\; of the year as a fundraiser for Sustainable Renton!</strong></span></div>\n\n<div><br />\nYou&#39\;ll be the first to try the newest additions to Drum Roll&#39\;s menu&mdash\;wine cocktails (&ldquo\;<span style="color:#006400"><strong>Citrus Lime Sublime</strong></span>&rdquo\; and &ldquo\;<span style="color:#A52A2A"><strong>Cherry Bomb</strong></span>&rdquo\;). Then you&#39\;ll get to experiment with a variety of wines and flavors and decide what appeals to you most.&nbsp\; A <em><strong>Flavor Infusion Bar </strong></em>will<strong>&nbsp\;</strong>be provided by Sustainable Renton. Come with your mind open and your creativity flowing!</div>\n<br />\n<u><strong>Experimental flavors to include</strong>:</u>\n\n<ul>\n	<li>Pineapple\, Ginger\, Honey &amp\; Sage Shrub</li>\n	<li>Blackberry Lemonbalm Shrub</li>\n	<li>Cherry Vanilla Shrub with Balsamic Vinegar</li>\n	<li>Sweet Basil Syrup</li>\n	<li>Mulled Spice Syrup (cranberry\, orange\, clove\, cinnamon\, allspice)</li>\n	<li>Sweet &amp\; Smokey Syrup (smoked paprika\, &amp\; Thai chili)</li>\n</ul>\n\n<div>Whether you want a tasting of a low ABV wine\, or a completely alcohol-free shrub or sparkling seltzer from our infusion bar\, it&#39\;s all included in your ticket price!<br />\n<br />\n<span style="font-size:14px"><strong>Tickets:</strong></span> $40 and includes taskings of both cocktails and access to the infusion bar!<br />\n&nbsp\;</div>\n\n<div><strong>All proceeds benefit Sustainable Renton&#39\;s mission:</strong> To empower neighbors to lead with justice and care for our shared environment by providing opportunities for community engagement in environmental stewardship\, food justice\, and sustainable education.</div>\n
LOCATION:Drum Roll Wine - 911 S 3rd St\, Renton\, WA 98057
UID:e.16.31572
SEQUENCE:3
DTSTAMP:20260426T024823Z
URL:https://chamber.gorenton.com/events/details/drum-roll-sunday-funday-fundraiser-to-benefit-sustainable-renton-31572
END:VEVENT

END:VCALENDAR
