BEGIN:VCALENDAR
VERSION:2.0
PRODID:-//ChamberMaster//Event Calendar 2.0//EN
METHOD:PUBLISH
X-PUBLISHED-TTL:P3D
REFRESH-INTERVAL:P3D
CALSCALE:GREGORIAN
BEGIN:VEVENT
DTSTART:20210430T220000Z
DTEND:20210501T010000Z
X-MICROSOFT-CDO-ALLDAYEVENT:FALSE
SUMMARY:Día del Niño/Children's Day
DESCRIPTION:Children's Day\, an event put on by Centro Rendu with Americorps\, will be a drive-through event with the purpose of bringing joy and improving quality of life for children in the Renton area. Children's Day or D a del Ni o is celebrated annually in Mexico on April 30th! Part of the mission of Centro Rendu is to empower and strengthen Latino communities in the Renton area\, which is why celebrating Children's day on April 30th this year is so special to our community. This drive through event will feature characters\, resources/information\, free little gifts\, books and toys!El D a del Ni o\, un evento que hace El Centro Rendu con Americorps\, ser  un evento drive through\, con el prop sito de traer la alegr a y mejorar la calidad de vida de los ni os en el  rea de Renton. El D a del Ni o o Children's Day se celebra anualmente en M xico el 30 de abril! Parte de la misi n de Centro Rendu es empoderar y fortalecer a las comunidades latinas en el  rea de Renton\, por lo que celebrar el D a de los Ni os el 30 de abril de este a o es tan especial para nuestra comunidad. El evento va a tener personajes\, recursos/informaci n\, regalitos\, libros y juguetes!
X-ALT-DESC;FMTTYPE=text/html:Children&rsquo\;s Day\, an event put on by Centro Rendu with Americorps\, will be a drive-through event with the purpose of bringing joy and improving quality of life for children in the Renton area. Children&rsquo\;s Day or D&iacute\;a del Ni&ntilde\;o is celebrated annually in Mexico on April 30th! Part of the mission of Centro Rendu is to empower and strengthen Latino communities in the Renton area\, which is why celebrating Children&rsquo\;s day on April 30th this year is so special to our community. This drive through event will feature characters\, resources/information\, free little gifts\, books and toys!El D&iacute\;a del Ni&ntilde\;o\, un evento que hace El Centro Rendu con Americorps\, ser&aacute\; un evento drive through\, con el prop&oacute\;sito de traer la alegr&iacute\;a y mejorar la calidad de vida de los ni&ntilde\;os en el &aacute\;rea de Renton. El D&iacute\;a del Ni&ntilde\;o o Children&rsquo\;s Day se celebra anualmente en M&eacute\;xico el 30 de abril! Parte de la misi&oacute\;n de Centro Rendu es empoderar y fortalecer a las comunidades latinas en el &aacute\;rea de Renton\, por lo que celebrar el D&iacute\;a de los Ni&ntilde\;os el 30 de abril de este a&ntilde\;o es tan especial para nuestra comunidad. El evento va a tener personajes\, recursos/informaci&oacute\;n\, regalitos\, libros y juguetes!
LOCATION:Renton Memorial Stadium
UID:e.16.8186
SEQUENCE:3
DTSTAMP:20260420T184054Z
URL:https://chamber.gorenton.com/events/details/d&#237;a-del-ni&#241;o-children-s-day-8186
END:VEVENT

END:VCALENDAR
