BEGIN:VCALENDAR
VERSION:2.0
PRODID:-//ChamberMaster//Event Calendar 2.0//EN
METHOD:PUBLISH
X-PUBLISHED-TTL:P3D
REFRESH-INTERVAL:P3D
CALSCALE:GREGORIAN
BEGIN:VEVENT
DTSTART:20220822T170000Z
DTEND:20220822T200000Z
X-MICROSOFT-CDO-ALLDAYEVENT:FALSE
SUMMARY:Eastside Baby Corner Pencils & Pants Donation Drop-off Event at Renton Chamber of Commerce
DESCRIPTION:Eastside Baby Corner (EBC) is coming to your community! Join Eastside Baby Corner (EBC) at our Pencils & Pants Donation Drop-off event at the Renton Chamber of Commerce from 10 am - 1 pm on Monday\, August 22nd.\n\n\n\nEBC is hosting weekly Donation Drop-off events in the various communities where EBC helps kids and on August 22nd we will be in Renton. Bring donations of school supplies and back to school clothing to help kids living in poverty be ready for school and school success!\n\n\n\nFor more information and to see a list of our most needed items\, please visit Organize A Drive - Baby Corner. Questions? Contact Tricia Barry at Triciab@babycorner.org.
X-ALT-DESC;FMTTYPE=text/html:Eastside Baby Corner (EBC) is coming to your community! Join Eastside Baby Corner (EBC) at our Pencils &amp\; Pants Donation Drop-off event at the Renton Chamber of Commerce from 10 am - 1 pm on Monday\, August 22nd.<br />\n<br />\nEBC is hosting weekly Donation Drop-off events in the various communities where EBC helps kids and on August 22nd we will be in Renton. Bring donations of school supplies and back to school clothing to help kids living in poverty be ready for school and school success!<br />\n<br />\nFor more information and to see a list of our most needed items\, please visit&nbsp\;<a href="https://babycorner.org/organize-a-drive/">Organize A Drive - Baby Corner</a>. Questions? Contact Tricia Barry at Triciab@babycorner.org.
LOCATION:Renton Chamber of Commerce 625 S. 4th St. Renton\, WA 98057
UID:e.16.13519
SEQUENCE:3
DTSTAMP:20260419T203126Z
URL:https://chamber.gorenton.com/events/details/eastside-baby-corner-pencils-pants-donation-drop-off-event-at-renton-chamber-of-commerce-13519
END:VEVENT

END:VCALENDAR
