BEGIN:VCALENDAR
VERSION:2.0
PRODID:-//ChamberMaster//Event Calendar 2.0//EN
METHOD:PUBLISH
X-PUBLISHED-TTL:P3D
REFRESH-INTERVAL:P3D
CALSCALE:GREGORIAN
BEGIN:VEVENT
DTSTART:20210810T170000Z
DTEND:20210810T200000Z
X-MICROSOFT-CDO-ALLDAYEVENT:FALSE
SUMMARY:Eastside Baby Corner School Supply Drive at Renton Chamber
DESCRIPTION:Bring school supplies & clothing for kids in need to the Renton Chamber of Commerce.
X-ALT-DESC;FMTTYPE=text/html:Bring school supplies &amp\; clothing for kids in need to the Renton Chamber of Commerce.
LOCATION:Renton Chamber of Commerce 625 S 4th St Renton\, WA 98057
UID:e.16.8292
SEQUENCE:3
DTSTAMP:20260420T133011Z
URL:https://chamber.gorenton.com/events/details/eastside-baby-corner-school-supply-drive-at-renton-chamber-8292
END:VEVENT

END:VCALENDAR
