BEGIN:VCALENDAR
VERSION:2.0
PRODID:-//ChamberMaster//Event Calendar 2.0//EN
METHOD:PUBLISH
X-PUBLISHED-TTL:P3D
REFRESH-INTERVAL:P3D
CALSCALE:GREGORIAN
BEGIN:VEVENT
DTSTART:20220110T160000Z
DTEND:20220110T170000Z
X-MICROSOFT-CDO-ALLDAYEVENT:FALSE
SUMMARY:Education Committee Meeting
DESCRIPTION:This committee is all things education. They promote the strengths and resources of the business community to develop\, encourage and build up the education community\, both staff and students in order to produce a strong workforce and well balanced community.\n\n \n\nChair - Dan Hammes - Embry Riddle Aeronautical University
X-ALT-DESC;FMTTYPE=text/html:<br />\n<span style="font-family:arial\;"><span style="font-size:12.0pt\;">This committee is all things education. They promote the strengths and resources of the business community to develop\, encourage and build up the education community\, both staff and students in order to produce a strong workforce and well balanced community.</span></span><br />\n&nbsp\;<br />\n<strong>Chair - Dan Hammes - Embry Riddle Aeronautical University</strong>
LOCATION:VIA ZOOM Please register for Zoom Link
UID:e.16.5422
SEQUENCE:3
DTSTAMP:20260420T073950Z
URL:https://chamber.gorenton.com/events/details/education-committee-meeting-01-10-2022-5422
END:VEVENT

END:VCALENDAR
