BEGIN:VCALENDAR
VERSION:2.0
PRODID:-//ChamberMaster//Event Calendar 2.0//EN
METHOD:PUBLISH
X-PUBLISHED-TTL:P3D
REFRESH-INTERVAL:P3D
CALSCALE:GREGORIAN
BEGIN:VEVENT
DTSTART:20180224T190000Z
DTEND:20180224T200000Z
X-MICROSOFT-CDO-ALLDAYEVENT:FALSE
SUMMARY:Emerald Street: Race\, Class\, Culture\, and the History of Hip Hop in the Northwest
DESCRIPTION:Led by author and professor Daudi Abe\, discover the history behind not only the Northwest's Grammy-winning rappers\, but its world champion break dance crew\, world-renowned clothing designers\, and its community driven grassroots organizations. Courtesy of Humanities Washington.
X-ALT-DESC;FMTTYPE=text/html:Led by author and professor Daudi Abe\, discover the history behind not only the Northwest&rsquo\;s Grammy-winning rappers\, but its world champion break dance crew\, world-renowned clothing designers\, and its community driven grassroots organizations. Courtesy of Humanities Washington.
LOCATION:RENTON HISTORY MUSEUM 235 Mill Ave. S. Renton\, WA 98057
UID:e.16.5723
SEQUENCE:3
DTSTAMP:20260425T024432Z
URL:https://chamber.gorenton.com/events/details/emerald-street-race-class-culture-and-the-history-of-hip-hop-in-the-northwest-5723
END:VEVENT

END:VCALENDAR
