BEGIN:VCALENDAR
VERSION:2.0
PRODID:-//ChamberMaster//Event Calendar 2.0//EN
METHOD:PUBLISH
X-PUBLISHED-TTL:P3D
REFRESH-INTERVAL:P3D
CALSCALE:GREGORIAN
BEGIN:VEVENT
DTSTART:20260503T020000Z
DTEND:20260503T223000Z
X-MICROSOFT-CDO-ALLDAYEVENT:FALSE
SUMMARY:Evergreen City Ballet Presents: Sleeping Beauty's Royal Wedding + We Are Infinite
DESCRIPTION:We Are Infinite is a sneaker/barefoot contemporary ballet originally choreographed for Miami City Ballet School and inspired by the quote from The Perks of Being a Wallflower\, where the phrase expresses a moment of feeling fully alive\, connected\, and limitless. As one reader describes it\, "we are infinite" captures the sense of being young\, unstoppable\, and believing that everything is attainable\, a feeling that sits at the emotional core of this work. The choreography reflects the journey of young dancers discovering their artistic voice and growing through their training. The piece celebrates freedom\, passion\, and vulnerability\, while reminding dancers to stay connected to their inner young artist and to continue inspiring those who follow.\n\n\n\nThis condensed production of Sleeping Beauty will feature highlights from Act III: Aurora's Wedding\, focusing on the celebratory divertissements and fairytale guests who honor Princess Aurora and Prince D sir . This shortened version showcases the Fairies of Serenity\, Brilliance\, Kindness\, and Generosity\, along with featured appearances by the White Cat and Black Cat\, Blue Bird and Princess Florine\, and Little Red Riding Hood with the Wolf. The Lilac Fairy and her attendants\, courtiers\, and woodland creatures complete the wedding celebration\, creating a vibrant and storybook-inspired finale.
X-ALT-DESC;FMTTYPE=text/html:<strong>We Are Infinite</strong><span style="background-color:transparent\; color:rgb(0\, 0\, 0)\; font-family:cambria\,serif\; font-size:12pt"> is a sneaker/barefoot contemporary ballet originally choreographed for Miami City Ballet School and inspired by the quote from </span><em>The Perks of Being a Wallflower</em><span style="background-color:transparent\; color:rgb(0\, 0\, 0)\; font-family:cambria\,serif\; font-size:12pt">\, where the phrase expresses a moment of feeling fully alive\, connected\, and limitless. As one reader describes it\, &ldquo\;we are infinite&rdquo\; captures the sense of being young\, unstoppable\, and believing that everything is attainable\, a feeling that sits at the emotional core of this work. The choreography reflects the journey of young dancers discovering their artistic voice and growing through their training. The piece celebrates freedom\, passion\, and vulnerability\, while reminding dancers to stay connected to their inner young artist and to continue inspiring those who follow.</span><br />\n<br />\n<span style="background-color:transparent\; color:rgb(0\, 0\, 0)\; font-family:cambria\,serif\; font-size:12pt">This condensed production of </span><strong>Sleeping Beauty</strong><span style="background-color:transparent\; color:rgb(0\, 0\, 0)\; font-family:cambria\,serif\; font-size:12pt"> will feature highlights from </span><strong>Act III: Aurora&rsquo\;s Wedding</strong><span style="background-color:transparent\; color:rgb(0\, 0\, 0)\; font-family:cambria\,serif\; font-size:12pt">\, focusing on the celebratory divertissements and fairytale guests who honor Princess Aurora and Prince D&eacute\;sir&eacute\;. This shortened version showcases the Fairies of Serenity\, Brilliance\, Kindness\, and Generosity\, along with featured appearances by the White Cat and Black Cat\, Blue Bird and Princess Florine\, and Little Red Riding Hood with the Wolf. The Lilac Fairy and her attendants\, courtiers\, and woodland creatures complete the wedding celebration\, creating a vibrant and storybook-inspired finale.</span>
LOCATION:Foster High School Performing Arts Center 4242 S 144th St\, Tukwila\, WA 98168
UID:e.16.32070
SEQUENCE:3
DTSTAMP:20260423T090535Z
URL:https://chamber.gorenton.com/events/details/evergreen-city-ballet-presents-sleeping-beauty-s-royal-wedding-we-are-infinite-32070
END:VEVENT

END:VCALENDAR
