BEGIN:VCALENDAR
VERSION:2.0
PRODID:-//ChamberMaster//Event Calendar 2.0//EN
METHOD:PUBLISH
X-PUBLISHED-TTL:P3D
REFRESH-INTERVAL:P3D
CALSCALE:GREGORIAN
BEGIN:VEVENT
DTSTART:20230204T190000Z
DTEND:20230204T200000Z
X-MICROSOFT-CDO-ALLDAYEVENT:FALSE
SUMMARY:Evergreen City Ballet Ribbon Cutting
DESCRIPTION:You're Invited to Evergreen City Ballet's\n\nRIBBON CUTTING
X-ALT-DESC;FMTTYPE=text/html:You&#39\;re Invited to Evergreen City Ballet&#39\;s<br />\nRIBBON CUTTING
LOCATION:1300 Bronson Way N. Renton\, WA 98057
UID:e.16.14190
SEQUENCE:3
DTSTAMP:20260419T124003Z
URL:https://chamber.gorenton.com/events/details/evergreen-city-ballet-ribbon-cutting-14190
END:VEVENT

END:VCALENDAR
