BEGIN:VCALENDAR
VERSION:2.0
PRODID:-//ChamberMaster//Event Calendar 2.0//EN
METHOD:PUBLISH
X-PUBLISHED-TTL:P3D
REFRESH-INTERVAL:P3D
CALSCALE:GREGORIAN
BEGIN:VEVENT
DTSTART:20190428T180000Z
DTEND:20190428T233000Z
X-MICROSOFT-CDO-ALLDAYEVENT:FALSE
SUMMARY:Evergreen City Ballet’s Coppélia
DESCRIPTION:Evergreen City Ballet invites audiences of all ages to fall in love with the story of Copp lia... a traditional\, full-length ballet production retold by Artistic Director\, Gillmer Duran\, in partnership with Seattle Robotics Society.\n\n\n\nThis April\, join Evergreen City Ballet for a full weekend of performances featuring Copp lia\, retold at Meydenbauer Center Theatre in Bellevue\, WA.\n\nOriginally invented by mad-scientist Doctor Coppelius\, the beloved story of the doll Copp lia\n\nis one of the most vibrant ballets brought to life in the 21st century.\n\nProduced in Duran's modern choreographic style\, and interlaced with today's culture\n\nand technology\, the retold story of Copp lia's adored personality graces the stage in one\n\nof the world's most high-tech\, STEM states.
X-ALT-DESC;FMTTYPE=text/html:Evergreen City Ballet invites audiences of all ages to fall in love with the story of Copp&eacute\;lia... a traditional\, full-length ballet production retold by Artistic Director\, Gillmer Duran\, in partnership with <u><a href="http://www.seattlerobotics.org/"><span style="color:#800080\;">Seattle Robotics Society.</span></a></u><br />\n<br />\nThis April\, join Evergreen City Ballet for a full weekend of performances featuring Copp&eacute\;lia\, retold at Meydenbauer Center Theatre in Bellevue\, WA.<br />\nOriginally invented by mad-scientist Doctor Coppelius\, the beloved story of the doll Copp&eacute\;lia<br />\nis one of the most vibrant ballets brought to life in the 21st century.<br />\nProduced in Duran&rsquo\;s modern choreographic style\, and interlaced with today&#39\;s culture<br />\nand technology\, the retold story of Copp&eacute\;lia&#39\;s adored personality graces the stage in one<br />\nof the world&rsquo\;s most high-tech\, STEM states.<br />\n<br />\n&nbsp\;
LOCATION:Meydenbauer Center Theatre 11100 NE 6th St. Bellevue\, WA 98004
UID:e.16.6240
SEQUENCE:3
DTSTAMP:20260424T052400Z
URL:https://chamber.gorenton.com/events/details/evergreen-city-ballet-s-copp&#233;lia-6240
END:VEVENT

END:VCALENDAR
