BEGIN:VCALENDAR
VERSION:2.0
PRODID:-//ChamberMaster//Event Calendar 2.0//EN
METHOD:PUBLISH
X-PUBLISHED-TTL:P3D
REFRESH-INTERVAL:P3D
CALSCALE:GREGORIAN
BEGIN:VEVENT
DTSTART:20181007T000000Z
DTEND:20181007T050000Z
X-MICROSOFT-CDO-ALLDAYEVENT:FALSE
SUMMARY:Evergreen City Ballet: Western Casino Night
DESCRIPTION:Enjoy an evening of entertainment hosted by Evergreen City Ballet's teachers\, staff\, Board of Directors & Parent Guild. ALL PROCEEDS BENEFIT YOUTH PROGRAMS PRODUCED BY EVERGREEN CITY BALLET . Must be 21 or older to attend.
X-ALT-DESC;FMTTYPE=text/html:<p style="margin: 0px\; min-height: 1.5em\;"><font color="#3b3a3a" face="helvetica-w01-light\, helvetica-w02-light\, sans-serif">Enjoy an evening of entertainment hosted by Evergreen City Ballet&#39\;s teachers\, staff\, Board of Directors &amp\; Parent Guild. ALL PROCEEDS BENEFIT YOUTH PROGRAMS PRODUCED BY EVERGREEN CITY BALLET . Must be 21 or older to attend.</font></p>\n\n<p style="margin: 0px\; min-height: 1.5em\; color: rgb(59\, 58\, 58)\; font-family: helvetica-w01-light\, helvetica-w02-light\, sans-serif\; font-size: 16px\;">&nbsp\;</p>\n
LOCATION:Evergreen City Ballet 2230 Lind Avenue SW Renton\, WA\, USA
UID:e.16.5926
SEQUENCE:3
DTSTAMP:20260424T134257Z
URL:https://chamber.gorenton.com/events/details/evergreen-city-ballet-western-casino-night-5926
END:VEVENT

END:VCALENDAR
