BEGIN:VCALENDAR
VERSION:2.0
PRODID:-//ChamberMaster//Event Calendar 2.0//EN
METHOD:PUBLISH
X-PUBLISHED-TTL:P3D
REFRESH-INTERVAL:P3D
CALSCALE:GREGORIAN
BEGIN:VEVENT
DTSTART:20260329T020000Z
DTEND:20260329T040000Z
X-MICROSOFT-CDO-ALLDAYEVENT:FALSE
SUMMARY:Evergreen Dance Festival hosted by Evergreen City Ballet
DESCRIPTION:The Evergreen Dance Festival (EDF)\, hosted by Evergreen City Ballet (ECB) in Renton! The festival will be held at the Renton IKEA Performing Arts Center (RIPAC) and ECB Studios.\n\n\n\nThe EDF will offer free master classes for participating dancers on March 27-28 covering a range of styles including Ballet\, Contemporary\, Classical Indian Dance and Flamenco.\n\n?\n\nThe festival will close with performances of various styles from participating schools on March 28 at the Renton IKEA Performing Arts Center.
X-ALT-DESC;FMTTYPE=text/html:<p><span style="color:rgb(36\, 35\, 35)">The Evergreen Dance Festival (EDF)\, hosted by Evergreen City Ballet (ECB) in Renton! The festival will be held at the Renton IKEA Performing Arts Center (RIPAC) and ECB Studios.</span></p>\n\n<p><br />\n<span style="color:rgb(36\, 35\, 35)">The EDF will offer free master classes for participating dancers on March 27-28 covering a range of styles including Ballet\, Contemporary\, Classical Indian Dance and Flamenco.</span></p>\n\n<p><span style="color:rgb(36\, 35\, 35)">?</span></p>\n\n<p><span style="color:rgb(36\, 35\, 35)">The festival will close with performances of various styles from participating schools on March 28 at the Renton IKEA Performing Arts Center.&nbsp\;</span></p>\n
LOCATION:Renton IKEA Performing Arts Center 400 S 2nd St\, Renton\, WA 98057
UID:e.16.32069
SEQUENCE:3
DTSTAMP:20260425T223352Z
URL:https://chamber.gorenton.com/events/details/evergreen-dance-festival-hosted-by-evergreen-city-ballet-32069
END:VEVENT

END:VCALENDAR
