BEGIN:VCALENDAR
VERSION:2.0
PRODID:-//ChamberMaster//Event Calendar 2.0//EN
METHOD:PUBLISH
X-PUBLISHED-TTL:P3D
REFRESH-INTERVAL:P3D
CALSCALE:GREGORIAN
BEGIN:VEVENT
DTSTART:20260326T170000Z
DTEND:20260326T190000Z
X-MICROSOFT-CDO-ALLDAYEVENT:FALSE
SUMMARY:Explore Wild Tanzania Safari
DESCRIPTION:Explore Wild Tanzania Safari\,\n\nCome join us at the Renton Chamber of Commerce for a zoom visit with James Mazigo\, owner/safari guide of Gamelife Legends Limited from Arusha\, Tanzania\; the gate-way to safaris. \n\n\n\nAlso enjoy a cup of Tanzanian coffee and an African donut (Mandazi) while joining us for a Tanzanian Photo Safari Portfolio.\n\n\n\nThursday March 26\, 2026 at 10:a.m.\n\nAsk questions and mingle with your Renton neighbors.  And\, bring a friend.\n\nFree!
X-ALT-DESC;FMTTYPE=text/html:Explore Wild Tanzania Safari\,<br />\nCome join us at the Renton Chamber of Commerce for a zoom visit with James Mazigo\, owner/safari guide of Gamelife Legends Limited from Arusha\, Tanzania\; the gate-way to safaris.&nbsp\;<br />\n<br />\nAlso enjoy a cup of Tanzanian coffee and an African donut (Mandazi) while joining us for a Tanzanian Photo Safari Portfolio.<br />\n<br />\nThursday March 26\, 2026 at 10:a.m.<br />\nAsk questions and mingle with your Renton neighbors.&nbsp\; And\, bring a friend.<br />\nFree!<br />\n<br />\n&nbsp\;
LOCATION:Renton Chamber of Commerce 625 S 4th Street Renton\, WA 98057
UID:e.16.32068
SEQUENCE:3
DTSTAMP:20260425T223335Z
URL:https://chamber.gorenton.com/events/details/explore-wild-tanzania-safari-03-26-2026-32068
END:VEVENT

END:VCALENDAR
