BEGIN:VCALENDAR
VERSION:2.0
PRODID:-//ChamberMaster//Event Calendar 2.0//EN
METHOD:PUBLISH
X-PUBLISHED-TTL:P3D
REFRESH-INTERVAL:P3D
CALSCALE:GREGORIAN
BEGIN:VEVENT
DTSTART:20190713T000000Z
DTEND:20190713T010000Z
X-MICROSOFT-CDO-ALLDAYEVENT:FALSE
SUMMARY:Fairwood Ribbon Cutting
DESCRIPTION:Join us as we celebrate Fairwood's new driving range with a ribbon cutting ceremony.\n\nWe would like to welcome those interested in membership to help celebrate. Attendees will be offered an incentive for day-of enrollment.
X-ALT-DESC;FMTTYPE=text/html:Join us as we celebrate Fairwood&#39\;s new driving range with a ribbon cutting ceremony.<br />\nWe would like to welcome those interested in membership to help celebrate. Attendees will be offered an incentive for day-of enrollment.&nbsp\; &nbsp\;
LOCATION:Fairwood Golf & Country Club 17070 140th Ave SE\, Renton\, Washington 98058
UID:e.16.6602
SEQUENCE:3
DTSTAMP:20260424T130627Z
URL:https://chamber.gorenton.com/events/details/fairwood-ribbon-cutting-6602
END:VEVENT

END:VCALENDAR
