BEGIN:VCALENDAR
VERSION:2.0
PRODID:-//ChamberMaster//Event Calendar 2.0//EN
METHOD:PUBLISH
X-PUBLISHED-TTL:P3D
REFRESH-INTERVAL:P3D
CALSCALE:GREGORIAN
BEGIN:VEVENT
DTSTART:20221119T163000Z
DTEND:20221119T190000Z
X-MICROSOFT-CDO-ALLDAYEVENT:FALSE
SUMMARY:Fairwood's Annual Turkey Trot Powered by the Rosie Rourke Team!
DESCRIPTION:Join the Rosie Rourke Team and your fellow Fairwood friends/neighbors on November 19th for the 5th annual Turkey Trot 5k Fun Run+Walk & Food Drive\, hosted by the #1 real estate team in Fairwood! This event is also co-sponsored by Greg Anderson of Caliber Home Loans!\n\n \nRegistration/check-in is 8:30am. The race starts at 9am and don't forget to bring your food donations for the Renton Salvation Army Food Bank! We will also be giving prizes to the first place runner and there will coffee and NY style hotdogs from Cafe de la Loba's food truck!\n\nRSVP is not required\, just show up and have fun! Save time at check-in when you pre-register online via Eventbrite here: https://www.eventbrite.com/e/annual-fairwood-turkey-trot-food-drive-powered-by-the-rosie-rourke-team-tickets-445579669787
X-ALT-DESC;FMTTYPE=text/html:Join the Rosie Rourke Team and your fellow Fairwood friends/neighbors on November 19th for the 5th annual Turkey Trot 5k Fun Run+Walk &amp\; Food Drive\, hosted by the #1 real estate team in Fairwood! This event is also co-sponsored by Greg Anderson of Caliber Home Loans!<br />\n&nbsp\;\n<p>Registration/check-in is 8:30am. The race starts at 9am and don&#39\;t forget to bring your food donations for the Renton Salvation Army Food Bank! We will also be giving prizes to the first place runner and there will coffee and NY style hotdogs from Cafe de la Loba&#39\;s food truck!</p>\n\n<p>RSVP is not required\, just show up and have fun! Save time at check-in when you pre-register online via Eventbrite here: <strong><a href="https://www.eventbrite.com/e/annual-fairwood-turkey-trot-food-drive-powered-by-the-rosie-rourke-team-tickets-445579669787">https://www.eventbrite.com/e/annual-fairwood-turkey-trot-food-drive-powered-by-the-rosie-rourke-team-tickets-445579669787</a></strong></p>\n\n<p>&nbsp\;</p>\n
LOCATION:Check in at the Grand Fir Park & Basketball Court in the Fairwood Firs Neighborhood (off of 140th Ave SE/SE 181st Street)
UID:e.16.13630
SEQUENCE:3
DTSTAMP:20260419T174648Z
URL:https://chamber.gorenton.com/events/details/fairwood-s-annual-turkey-trot-powered-by-the-rosie-rourke-team-13630
END:VEVENT

END:VCALENDAR
