BEGIN:VCALENDAR
VERSION:2.0
PRODID:-//ChamberMaster//Event Calendar 2.0//EN
METHOD:PUBLISH
X-PUBLISHED-TTL:P3D
REFRESH-INTERVAL:P3D
CALSCALE:GREGORIAN
BEGIN:VEVENT
DTSTART:20190222T010000Z
DTEND:20190222T030000Z
X-MICROSOFT-CDO-ALLDAYEVENT:FALSE
SUMMARY:Feb. After Hours- Downtown Open House/ Business Showcase
DESCRIPTION:We have lots of reasons to celebrate - including an abundance of new downtown Renton businesses --- including both new to the Chamber as well as new to downtown Renton! \n\n\n\nOn Thursday\, February 21st\, we will be offering a Chamber "After Hours" at two of these downtown businesses and celebrating these businesses with ribbon cuttings!\n\nThere will be drawings & prizes\, specials offered by Chamber businesses in the area and more.  GREAT opportunity to get out and explore downtown!\n\n\n\nRIBBON CUTTING CEREMONY TIMES:\n\nSparkle Gifts & Whatnots  5:30p (824 S 3rd St)\n\nBoon Boona Coffee Shop  6:30p  (724 S 3rd St)\n\n     Enjoy happy hour pricing all night at Boon Boona!\n\n     Buy a coffee and get a free "Sparkle" cookie!\n\n \n\nSPECIALS offered at the other participating Chamber businesses downtown this evening   .\n\nBerliner Pub (Happy Hour Pricing from 5p   7p)\n\nNew Zen Restaurant (20% Discount for Chamber Participants 5p - 7p)\n\n\n\n\n\nBring your friends\, bring your coworkers\, bring your clients and get out and explore downtown Renton!
X-ALT-DESC;FMTTYPE=text/html:<p>We have lots of reasons to celebrate - including an abundance of new downtown Renton businesses --- including both new to the Chamber as well as new to downtown Renton!&nbsp\;<br />\n<br />\nOn Thursday\, February 21st\, we will be offering a Chamber &quot\;After Hours&quot\; at two of these downtown businesses and celebrating these businesses with ribbon cuttings!</p>\n\n<p>There will be drawings &amp\; prizes\, specials offered by Chamber businesses in the area and more.&nbsp\; GREAT opportunity to get out and explore downtown!<br />\n<br />\nRIBBON CUTTING CEREMONY TIMES:<br />\n<span style="display: inline !important\; float: none\; background-color: rgb(255\, 255\, 255)\; color: rgb(51\, 51\, 51)\; cursor: text\; font-family: sans-serif\,Arial\,Verdana\,&quot\;Trebuchet MS&quot\;\; font-size: 13px\; font-style: normal\; font-variant: normal\; font-weight: 400\; letter-spacing: normal\; line-height: 20.8px\; orphans: 2\; text-align: left\; text-decoration: none\; text-indent: 0px\; text-transform: none\; -webkit-text-stroke-width: 0px\; white-space: normal\; word-spacing: 0px\;">Sparkle Gifts &amp\; Whatnots&nbsp\; 5:30p (824 S 3rd St)</span><br style="background-color: transparent\; color: rgb(51\, 51\, 51)\; cursor: text\; font-family: sans-serif\,Arial\,Verdana\,&amp\;quot\;Trebuchet MS&amp\;quot\;\; font-size: 13px\; font-style: normal\; font-variant: normal\; font-weight: 400\; letter-spacing: normal\; line-height: 20.8px\; margin-bottom: 0px\; margin-left: 0px\; margin-right: 0px\; margin-top: 0px\; orphans: 2\; text-align: left\; text-decoration: none\; text-indent: 0px\; text-transform: none\; -webkit-text-stroke-width: 0px\; white-space: normal\; word-spacing: 0px\;" />\nBoon Boona Coffee Shop&nbsp\; 6:30p&nbsp\; (724 S 3rd St)</p>\n\n<p>&nbsp\; &nbsp\;&nbsp\; Enjoy happy hour pricing all night at Boon Boona!<br />\n&nbsp\;&nbsp\; &nbsp\; Buy a coffee and get a free &quot\;Sparkle&quot\; cookie!<br />\n&nbsp\;</p>\n\n<p>SPECIALS offered at the other participating Chamber businesses downtown this evening&nbsp\; &hellip\;.<br />\nBerliner Pub (Happy Hour Pricing from 5p &ndash\; 7p)<br />\nNew Zen Restaurant (20% Discount for Chamber Participants 5p - 7p)<br />\n<br />\n<br />\nBring your friends\, bring your coworkers\, bring your clients and get out and explore downtown Renton!</p>\n
LOCATION:In the Heart of Downtown Renton on South 3rd Street -between Williams Ave. and Wells Ave.
UID:e.16.6236
SEQUENCE:3
DTSTAMP:20260424T075854Z
URL:https://chamber.gorenton.com/events/details/feb-after-hours-downtown-open-house-business-showcase-6236
END:VEVENT

END:VCALENDAR
