BEGIN:VCALENDAR
VERSION:2.0
PRODID:-//ChamberMaster//Event Calendar 2.0//EN
METHOD:PUBLISH
X-PUBLISHED-TTL:P3D
REFRESH-INTERVAL:P3D
CALSCALE:GREGORIAN
BEGIN:VEVENT
DTSTART:20260709T160000Z
DTEND:20260709T173000Z
X-MICROSOFT-CDO-ALLDAYEVENT:FALSE
SUMMARY:Fem Allies In Business (FAB) Monthly Women In Business Networking Event
DESCRIPTION:FAB Monthly Networking Meeting is where driven women come together to share ideas\, build relationships\, and support one another without the pressure or pretense. Expect real conversations\, genuine connection\, and a welcoming atmosphere that makes you feel right at home. Whether you're building something big or just getting started\, you belong here. \n\n \n\n\nLate arrival or early exit?\n\nTotally fine. We believe community should fit into your life\, not the other way around.\n\nCome as you are and take a little FAB magic with you.
X-ALT-DESC;FMTTYPE=text/html:<div>FAB Monthly Networking Meeting is where driven women come together to share ideas\, build relationships\, and support one another&mdash\;without the pressure or pretense. Expect real conversations\, genuine connection\, and a welcoming atmosphere that makes you feel right at home. Whether you&rsquo\;re building something big or just getting started\, you belong here.&nbsp\;</div>\n\n<div>&nbsp\;</div>\n\n<div>\n<div>Late arrival or early exit?<br />\nTotally fine. We believe community should fit into your life\, not the other way around.<br />\nCome as you are&mdash\;and take a little FAB magic with you.</div>\n</div>\n
LOCATION:Merrill Gardens at Renton Centre\, 104 Burnett Ave. S\, Renton WA 98057
UID:e.16.32719
SEQUENCE:3
DTSTAMP:20260426T011226Z
URL:https://chamber.gorenton.com/events/details/fem-allies-in-business-fab-monthly-women-in-business-networking-event-07-09-2026-32719
END:VEVENT

END:VCALENDAR
