BEGIN:VCALENDAR
VERSION:2.0
PRODID:-//ChamberMaster//Event Calendar 2.0//EN
METHOD:PUBLISH
X-PUBLISHED-TTL:P3D
REFRESH-INTERVAL:P3D
CALSCALE:GREGORIAN
BEGIN:VEVENT
DTSTART:20190222T193000Z
DTEND:20190222T203000Z
X-MICROSOFT-CDO-ALLDAYEVENT:FALSE
SUMMARY:Firestone Grand Opening/ Ribbon Cutting Ceremony
DESCRIPTION:Firestone is has opened a new branch on Benson hill. Join us as we welcome them with a ribbon cutting ceremony. Register to get a chance to get 4 free tires ( up to $1000 value ) and get 20% off any tire or service purchase from Feb. 22nd to the 24th.
X-ALT-DESC;FMTTYPE=text/html:Firestone is has opened a new branch on Benson hill. Join us as we welcome them with a ribbon cutting ceremony. Register to get a chance to get 4 free tires ( up to $1000 value ) and get 20% off any tire or service purchase from Feb. 22nd to the 24th.
LOCATION:17808 108th Ave. Renton\, WA 98055
UID:e.16.6245
SEQUENCE:3
DTSTAMP:20260424T075852Z
URL:https://chamber.gorenton.com/events/details/firestone-grand-opening-ribbon-cutting-ceremony-6245
END:VEVENT

END:VCALENDAR
