BEGIN:VCALENDAR
VERSION:2.0
PRODID:-//ChamberMaster//Event Calendar 2.0//EN
METHOD:PUBLISH
X-PUBLISHED-TTL:P3D
REFRESH-INTERVAL:P3D
CALSCALE:GREGORIAN
BEGIN:VEVENT
DTSTART:20220811T220000Z
DTEND:20220812T010000Z
X-MICROSOFT-CDO-ALLDAYEVENT:FALSE
SUMMARY:Fisher Scone Truck in Renton!
DESCRIPTION:Join us as Weatherly Inn host's the Fisher Scone Truck!\n\n \n\nThursday\, August 11th from 3-6pm\n\n \n\nThey will be selling their famous fair scones\, so swing by and enjoy!\n\n\n\nWe will also be offering a free sone to anyone who "likes" our Weatherly Inn Renton Facebook Page!
X-ALT-DESC;FMTTYPE=text/html:<div>Join us as Weatherly Inn host&#39\;s the<strong><a href="https://www.facebook.com/events/452700163077018?active_tab=about"> Fisher Scone Truck!</a></strong><br />\n&nbsp\;</div>\n\n<div>Thursday\, August 11th from 3-6pm<br />\n&nbsp\;</div>\n\n<div>They will be selling their famous fair scones\, so swing by and enjoy!<br />\n<br />\nWe will also be offering a free sone to&nbsp\;anyone who &quot\;likes&quot\; our Weatherly Inn Renton&nbsp\;<a href="https://www.facebook.com/weatherlyinnrenton" style="color: rgb(17\, 85\, 204)\; font-size: small\; font-family: Arial\, Helvetica\, sans-serif\;" target="_blank">Facebook Page</a>!</div>\n
LOCATION:4550 Talbot Road South\, Renton\, WA 98055
UID:e.16.13498
SEQUENCE:3
DTSTAMP:20260419T202711Z
URL:https://chamber.gorenton.com/events/details/fisher-scone-truck-in-renton-13498
END:VEVENT

END:VCALENDAR
