BEGIN:VCALENDAR
VERSION:2.0
PRODID:-//ChamberMaster//Event Calendar 2.0//EN
METHOD:PUBLISH
X-PUBLISHED-TTL:P3D
REFRESH-INTERVAL:P3D
CALSCALE:GREGORIAN
BEGIN:VEVENT
DTSTART:20200307T160000Z
DTEND:20200307T220000Z
X-MICROSOFT-CDO-ALLDAYEVENT:FALSE
SUMMARY:Food Biz Day Conference: Business Impact Northwest
DESCRIPTION:Food Biz Day is a daylong event focused on providing insight\, education\, and networking for food entrepreneurs. The day will be a combination of speakers\, breakouts\, and panel discussions followed by a food entrepreneur's marketplace where newbies can table their products alongside more seasoned food business owners.
X-ALT-DESC;FMTTYPE=text/html:Food Biz Day is a daylong event focused on providing insight\, education\, and networking for food entrepreneurs. The day will be a combination of speakers\, breakouts\, and panel discussions followed by a food entrepreneur&rsquo\;s marketplace where newbies can table their products alongside more seasoned food business owners.&nbsp\;
LOCATION:Highline College\, Student Union Building 2400 S 240th St Des Moines\, WA 98198
UID:e.16.6767
SEQUENCE:3
DTSTAMP:20260423T131555Z
URL:https://chamber.gorenton.com/events/details/food-biz-day-conference-business-impact-northwest-6767
END:VEVENT

END:VCALENDAR
