BEGIN:VCALENDAR
VERSION:2.0
PRODID:-//ChamberMaster//Event Calendar 2.0//EN
METHOD:PUBLISH
X-PUBLISHED-TTL:P3D
REFRESH-INTERVAL:P3D
CALSCALE:GREGORIAN
BEGIN:VEVENT
DTSTART:20220423T170000Z
DTEND:20220423T210000Z
X-MICROSOFT-CDO-ALLDAYEVENT:FALSE
SUMMARY:Food Drive to support Sustainable Renton
DESCRIPTION:This is The Renton Lions quarterly food drive to Sustainable Renton. Sustainable Renton is a non-profit organization that does a weekly drive through "Grocery Store" and services around 140 cars each week. They also give out up to 120000 lb. each week.\n\n\n\nWhat would be very helpful besides Non-perishable items is size 5&6 diapers\, personal hygiene products\, toilet paper\, wipes\, toothbrushes\, and paste. As always a monetary donation is also a blessing so that items not a available with EBT cards can be purchased. Any monetary donations can be made out to the Renton Lions Foundation and a check will be given to Sustainable Renton.\n\n\n\nThe food drive will be Saturday April 23 and Sunday April 24 from 10:00-2:00 We hope to see you there!
X-ALT-DESC;FMTTYPE=text/html:<p>This is The Renton Lions quarterly food drive to Sustainable Renton. Sustainable Renton is a non-profit organization that does a weekly drive through &quot\;Grocery Store&quot\; and services around 140 cars each week. They also give out up to 120000 lb. each week.<br />\n<br />\nWhat would be very helpful besides Non-perishable items is size 5&amp\;6 diapers\, personal hygiene products\, toilet paper\, wipes\, toothbrushes\, and paste. As always a monetary donation is also a blessing so that items not a available with EBT cards can be purchased. Any monetary donations can be made out to the Renton Lions Foundation and a check will be given to Sustainable Renton.<br />\n<br />\nThe food drive will be Saturday April 23 and Sunday April 24 from 10:00-2:00 We hope to see you there!</p>\n\n<p>&nbsp\;</p>\n
LOCATION:1102 Bronson Way N. Renton WA at HUB Insurance
UID:e.16.11513
SEQUENCE:3
DTSTAMP:20260420T014508Z
URL:https://chamber.gorenton.com/events/details/food-drive-to-support-sustainable-renton-11513
END:VEVENT

END:VCALENDAR
