BEGIN:VCALENDAR
VERSION:2.0
PRODID:-//ChamberMaster//Event Calendar 2.0//EN
METHOD:PUBLISH
X-PUBLISHED-TTL:P3D
REFRESH-INTERVAL:P3D
CALSCALE:GREGORIAN
BEGIN:VEVENT
DTSTART:20190628T010000Z
DTEND:20190628T020000Z
X-MICROSOFT-CDO-ALLDAYEVENT:FALSE
SUMMARY:Four-Color Reality: How Comic Books and the Real World Shape Each Other
DESCRIPTION:Journalist and educator T. Andrew Wahl explores how our reality shapes the world of comic books. By exploring popular figures like Black Panther\, Wonder Woman\, Captain America and more\, Wahl provides insight into how this part of pop culture can tell us about our past\, present\, and potential future.
X-ALT-DESC;FMTTYPE=text/html:Journalist and educator T. Andrew Wahl explores how our reality shapes the world of comic books. By exploring popular figures like Black Panther\, Wonder Woman\, Captain America and more\, Wahl provides insight into how this part of pop culture can tell us about our past\, present\, and potential future.
LOCATION:Renton History Museum 235 Mill Avenue S. Renton\, WA 98057
UID:e.16.6274
SEQUENCE:3
DTSTAMP:20260424T022109Z
URL:https://chamber.gorenton.com/events/details/four-color-reality-how-comic-books-and-the-real-world-shape-each-other-6274
END:VEVENT

END:VCALENDAR
