BEGIN:VCALENDAR
VERSION:2.0
PRODID:-//ChamberMaster//Event Calendar 2.0//EN
METHOD:PUBLISH
X-PUBLISHED-TTL:P3D
REFRESH-INTERVAL:P3D
CALSCALE:GREGORIAN
BEGIN:VEVENT
DTSTART:20180428T190000Z
DTEND:20180429T060000Z
X-MICROSOFT-CDO-ALLDAYEVENT:FALSE
SUMMARY:Four Generals Brewing Ribbon Cutting\, Food Truck Inaugural
DESCRIPTION:Two great local tastes that go great together!\n\nCelebrate the arrival of food trucks at Four Generals Brewing as they welcome Rain City Too Food Truck ( Rain City Catering ).\n\n *All Ages Welcome* \n\n To celebrate the arrival of the food trucks\, Four Generals Brewing will be releasing their two year aged Flanders Red at this event. Come in and try this delicious 5% barrel ages sour!
X-ALT-DESC;FMTTYPE=text/html:Two great local tastes that go great together!<br />\nCelebrate the arrival of food trucks at Four Generals Brewing as they welcome Rain City Too Food Truck ( Rain City Catering ).<br />\n&#8203\;*All Ages Welcome*&nbsp\;<br />\n&#8203\;To celebrate the arrival of the food trucks\, Four Generals Brewing will be releasing their two year aged Flanders Red at this event. Come in and try this delicious 5% barrel ages sour!
LOCATION:Four Generals Brewing 229 Wells Avenue South Renton\, WA 98057
UID:e.16.5847
SEQUENCE:3
DTSTAMP:20260425T005315Z
URL:https://chamber.gorenton.com/events/details/four-generals-brewing-ribbon-cutting-food-truck-inaugural-5847
END:VEVENT

END:VCALENDAR
