BEGIN:VCALENDAR
VERSION:2.0
PRODID:-//ChamberMaster//Event Calendar 2.0//EN
METHOD:PUBLISH
X-PUBLISHED-TTL:P3D
REFRESH-INTERVAL:P3D
CALSCALE:GREGORIAN
BEGIN:VEVENT
DTSTART:20260503T010000Z
DTEND:20260503T030000Z
X-MICROSOFT-CDO-ALLDAYEVENT:FALSE
SUMMARY:Francesco Crosara Solo Piano
DESCRIPTION:Pianist and composer Francesco Crosara will appear in a solo performance at Stage 7 Pianos on May 2. Pianist and composer Francesco Crosara will appear in a solo performance at Stage 7 Pianos on May 2\, presenting an intimate evening of original music and improvisation. The program highlights Crosara's signature blend of jazz and classical influences\, featuring original compositions\, spontaneous piano improvisations\, and fresh reharmonizations of jazz standards. The performance offers a close- up listening experience designed for audiences who appreciate clarity\, nuance\, and expressive detail. This appearance offers a rare chance to hear Crosara's music in a focused\, personal setting that brings out the full character of his pianism. Stage 7 Pianos is both a premier piano showroom and a dedicated performance venue\, known for its exceptional instruments and close- up listening environment. BIO Francesco Crosara is a jazz pianist\, composer\, and educator known for his innovative genre-defying blend of jazz improvisation\, classical training\, world and Latin influences. Crosara's music is deeply inspired by jazz piano legends such as Chick Corea\, Bill Evans\, Keith Jarrett\, and Herbie Hancock. His work spans a variety of formats\, from solo performances to trios and quartets\, showcasing his versatility and depth as a musician. Over his forty-year career\, Crosara has performed with renowned artists including Lionel Hampton\, Freddie Hubbard\, Roy Hargrove\, Von Freeman\, Bobby Shew and Richie Cole. His seven record releases have featured a multicultural and international array of musicians and have been well received by the media. He has performed at festivals and venues across the USA\, Japan\, Canada\, Mexico\, France\, Spain\, and Italy.
X-ALT-DESC;FMTTYPE=text/html:Pianist and composer Francesco Crosara will appear in a solo performance at Stage 7 Pianos on May 2. Pianist and composer Francesco Crosara will appear in a solo performance at Stage 7 Pianos on May 2\, presenting an intimate evening of original music and improvisation. The program highlights Crosara&rsquo\;s signature blend of jazz and classical influences\, featuring original compositions\, spontaneous piano improvisations\, and fresh reharmonizations of jazz standards. The performance offers a close- up listening experience designed for audiences who appreciate clarity\, nuance\, and expressive detail. This appearance offers a rare chance to hear Crosara&rsquo\;s music in a focused\, personal setting that brings out the full character of his pianism. Stage 7 Pianos is both a premier piano showroom and a dedicated performance venue\, known for its exceptional instruments and close- up listening environment. BIO Francesco Crosara is a jazz pianist\, composer\, and educator known for his innovative genre-defying blend of jazz improvisation\, classical training\, world and Latin influences. Crosara&rsquo\;s music is deeply inspired by jazz piano legends such as Chick Corea\, Bill Evans\, Keith Jarrett\, and Herbie Hancock. His work spans a variety of formats\, from solo performances to trios and quartets\, showcasing his versatility and depth as a musician. Over his forty-year career\, Crosara has performed with renowned artists including Lionel Hampton\, Freddie Hubbard\, Roy Hargrove\, Von Freeman\, Bobby Shew and Richie Cole. His seven record releases have featured a multicultural and international array of musicians and have been well received by the media. He has performed at festivals and venues across the USA\, Japan\, Canada\, Mexico\, France\, Spain\, and Italy.
LOCATION:Stage 7 Pianos: 107 Williams Ave S\, Renton\, WA \, 98057
UID:e.16.32307
SEQUENCE:3
DTSTAMP:20260422T075711Z
URL:https://chamber.gorenton.com/events/details/francesco-crosara-solo-piano-32307
END:VEVENT

END:VCALENDAR
