BEGIN:VCALENDAR
VERSION:2.0
PRODID:-//ChamberMaster//Event Calendar 2.0//EN
METHOD:PUBLISH
X-PUBLISHED-TTL:P3D
REFRESH-INTERVAL:P3D
CALSCALE:GREGORIAN
BEGIN:VEVENT
DTSTART;VALUE=DATE:20191121
DTEND;VALUE=DATE:20191122
TRANSP:TRANSPARENT
X-MICROSOFT-CDO-ALLDAYEVENT:TRUE
SUMMARY:FREE Advance Care Planning Support- 3rd Thursdays 12-2pm or 4-6pm
DESCRIPTION:How will my loved ones know my preferences?\n\n-Advance Directive - POLST - Living Will - Power of Attorney -\n\n- Dementia Directive - Mental Health Advance Directive  \n\n\nEnsure that your loved ones are guided by your own values and wishes in the event of an illness or incapacity. Mission Healthcare is offering free assistance for those wanting to plan ahead\, learn more about advance planning\, or benefit from 1:1 support with completing necessary documents. Drop-in hours are facilitated by a Clinical Social Worker.\n\n3rd Thursdays in 2019\n\nUpcoming Drop-In Hours:\n\n Thursday\, January 17\, 2019\, 12:00 -2:00 pm  \n\n Thursday\, February 21\, 2019\, 4:00 -6:00 pm\n\n Thursday\, April 18\, 2019\, 12:00 -2:00 pm  \n\n Thursday\, May 16\, 2019\, 4:00 -6:00 pm  \n\n Thursday\, June 20\, 2019\, 12:00 -2:00 pm  \n\n Thursday\, July 18\, 2019\, 4:00 -6:00 pm  \n\n Thursday\, August 15\, 2019\, 12:00 -2:00 pm  \n\n Thursday\, September 19\, 2019\, 4:00 -6:00 pm  \n\n Thursday\, October 17\, 2019\, 12:00 -2:00 pm  \n\n Thursday\, November 21\, 2019\, 4:00 -6:00 pm  \n\n Thursday\, December 19\, 2019\, 12:00 -2:00 pm
X-ALT-DESC;FMTTYPE=text/html:<div style="text-align: center\;"><span style="color:#003F72"><span style="font-family:georgia"><span style="font-size:25.0pt">How will my loved ones know my preferences?</span></span></span><br />\n<span style="color:#003F72"><span style="font-family:georgia"><span style="font-size:15.0pt">-Advance Directive - POLST - Living Will - Power of Attorney -<br />\n- Dementia Directive - Mental Health Advance Directive &ndash\;</span></span></span></div>\n<br />\n<span style="color:black"><span style="font-family:calibri light"><span style="font-size:15.0pt">Ensure that your loved ones are guided by your own values and wishes in the event of an illness or incapacity. Mission Healthcare is offering </span></span></span><strong><span style="color:black"><span style="font-family:\n"><span style="font-size:15.0pt">free assistance</span></span></span></strong><span style="color:black"><span style="font-family:calibri light"><span style="font-size:15.0pt"> for those wanting to plan ahead\, learn more about advance planning\, or benefit from 1:1 support with completing necessary documents. Drop-in hours are facilitated by a Clinical Social Worker.</span></span></span>\n\n<div style="text-align: center\;"><span style="font-size:36px"><strong><span style="color:black"><span style="font-family:arial nova light">3rd Thursdays in 2019</span></span></strong></span><br />\n<span style="color:black\; font-family:sans-serif\,arial\,verdana\,&amp\; font-size:13px"><span style="font-family:arial nova light"><span style="font-size:14pt">Upcoming Drop-In Hours:</span></span></span>\n\n<div style="margin-left:1.88in\; text-align:justify"><span style="font-size:14pt"><span style="font-family:wingdings">&sect\;</span></span><span style="color:black"><span style="font-family:arial nova light"><span style="font-size:14pt">Thursday\, January 17\, 2019\, 12:00 -2:00 pm&nbsp\; </span></span></span></div>\n\n<div style="margin-left:1.88in\; text-align:justify"><span style="font-size:14pt"><span style="font-family:wingdings">&sect\;</span></span><strong><span style="color:black"><span style="font-family:arial nova light"><span style="font-size:14pt">Thursday\, February 21\, 2019\, 4:00 -6:00 pm</span></span></span></strong></div>\n\n<div style="margin-left:1.88in\; text-align:justify"><span style="font-size:14pt"><span style="font-family:wingdings">&sect\;</span></span><span style="color:black"><span style="font-family:arial nova light"><span style="font-size:14pt">Thursday\, April 18\, 2019\, 12:00 -2:00 pm&nbsp\; </span></span></span></div>\n\n<div style="margin-left:1.88in\; text-align:justify"><span style="font-size:14pt"><span style="font-family:wingdings">&sect\;</span></span><strong><span style="color:black"><span style="font-family:arial nova light"><span style="font-size:14pt">Thursday\, May 16\, 2019\, 4:00 -6:00 pm&nbsp\; </span></span></span></strong></div>\n\n<div style="margin-left:1.88in\; text-align:justify"><span style="font-size:14pt"><span style="font-family:wingdings">&sect\;</span></span><span style="color:black"><span style="font-family:arial nova light"><span style="font-size:14pt">Thursday\, June 20\, 2019\, 12:00 -2:00 pm&nbsp\; </span></span></span></div>\n\n<div style="margin-left:1.88in\; text-align:justify"><span style="font-size:14pt"><span style="font-family:wingdings">&sect\;</span></span><strong><span style="color:black"><span style="font-family:arial nova light"><span style="font-size:14pt">Thursday\, July 18\, 2019\, 4:00 -6:00 pm&nbsp\; </span></span></span></strong></div>\n\n<div style="margin-left:1.88in\; text-align:justify"><span style="font-size:14pt"><span style="font-family:wingdings">&sect\;</span></span><span style="color:black"><span style="font-family:arial nova light"><span style="font-size:14pt">Thursday\, August 15\, 2019\, 12:00 -2:00 pm&nbsp\; </span></span></span></div>\n\n<div style="margin-left:1.88in\; text-align:justify"><span style="font-size:14pt"><span style="font-family:wingdings">&sect\;</span></span><strong><span style="color:black"><span style="font-family:arial nova light"><span style="font-size:14pt">Thursday\, September 19\, 2019\, 4:00 -6:00 pm&nbsp\; </span></span></span></strong></div>\n\n<div style="margin-left:1.88in\; text-align:justify"><span style="font-size:14pt"><span style="font-family:wingdings">&sect\;</span></span><span style="color:black"><span style="font-family:arial nova light"><span style="font-size:14pt">Thursday\, October 17\, 2019\, 12:00 -2:00 pm&nbsp\; </span></span></span></div>\n\n<div style="margin-left:1.88in\; text-align:justify"><span style="font-size:14pt"><span style="font-family:wingdings">&sect\;</span></span><strong><span style="color:black"><span style="font-family:arial nova light"><span style="font-size:14pt">Thursday\, November 21\, 2019\, 4:00 -6:00 pm&nbsp\; </span></span></span></strong></div>\n\n<div style="margin-left:1.88in\; text-align:justify"><span style="font-size:14pt"><span style="font-family:wingdings">&sect\;</span></span><span style="color:black"><span style="font-family:arial nova light"><span style="font-size:14pt">Thursday\, December 19\, 2019\, 12:00 -2:00 pm&nbsp\; </span></span></span></div>\n</div>\n
LOCATION:Mission Healthcare At Renton - Main Conference Room 17420 106th Pl SE\, Renton\, WA 98055
UID:e.16.6224
SEQUENCE:3
DTSTAMP:20260423T203634Z
URL:https://chamber.gorenton.com/events/details/free-advance-care-planning-support-3rd-thursdays-12-2pm-or-4-6pm-11-21-2019-6224
END:VEVENT

END:VCALENDAR
