BEGIN:VCALENDAR
VERSION:2.0
PRODID:-//ChamberMaster//Event Calendar 2.0//EN
METHOD:PUBLISH
X-PUBLISHED-TTL:P3D
REFRESH-INTERVAL:P3D
CALSCALE:GREGORIAN
BEGIN:VEVENT
DTSTART:20190323T170000Z
DTEND:20190323T220000Z
X-MICROSOFT-CDO-ALLDAYEVENT:FALSE
SUMMARY:Free First Time Homebuyer Class
DESCRIPTION:Did you know that you can receive up to 5% of your loan amount in down payment assistance? There are many options for eligible first-time homebuyers\, including reduced interest rates! Your first step to home ownership starts with our class. We'll discuss CREDIT\, BUDGETING\, FICO SCORING\, FINANCING and more. The path to home ownership may be easier than you think\, let us help get you there! Taught by Reba Haas of Team Reba\, Re/Max Metro Eastside\, and Sara Aasness of Homestreet Bank. Space is Limited - Please RSVP. See you there! Home Buyer Steps is a free Workshop approved by Washington State Housing Finance Commission.
X-ALT-DESC;FMTTYPE=text/html:Did you know that you can receive up to 5% of your loan amount in down payment assistance? There are many options for eligible first-time homebuyers\, including reduced interest rates! Your first step to home ownership starts with our class. We&#39\;ll discuss CREDIT\, BUDGETING\, FICO SCORING\, FINANCING and more. The path to home ownership may be easier than you think\, let us help get you there! Taught by Reba Haas of Team Reba\, Re/Max Metro Eastside\, and Sara Aasness of Homestreet Bank. Space is Limited - Please RSVP. See you there! Home Buyer Steps is a free Workshop approved by Washington State Housing Finance Commission.
LOCATION:Homestreet Bank 1501 S Union Ave\, Tacoma\, Washington 98405
UID:e.16.6247
SEQUENCE:3
DTSTAMP:20260424T064625Z
URL:https://chamber.gorenton.com/events/details/free-first-time-homebuyer-class-03-23-2019-6247
END:VEVENT

END:VCALENDAR
